BEGIN:VCALENDAR
VERSION:2.0
PRODID:-//The Biltmore Hotel - ECPv6.15.20//NONSGML v1.0//EN
CALSCALE:GREGORIAN
METHOD:PUBLISH
X-WR-CALNAME:The Biltmore Hotel
X-ORIGINAL-URL:https://biltmorehotel.com
X-WR-CALDESC:Events for The Biltmore Hotel
REFRESH-INTERVAL;VALUE=DURATION:PT1H
X-Robots-Tag:noindex
X-PUBLISHED-TTL:PT1H
BEGIN:VTIMEZONE
TZID:America/New_York
BEGIN:DAYLIGHT
TZOFFSETFROM:-0500
TZOFFSETTO:-0400
TZNAME:EDT
DTSTART:20240310T070000
END:DAYLIGHT
BEGIN:STANDARD
TZOFFSETFROM:-0400
TZOFFSETTO:-0500
TZNAME:EST
DTSTART:20241103T060000
END:STANDARD
BEGIN:DAYLIGHT
TZOFFSETFROM:-0500
TZOFFSETTO:-0400
TZNAME:EDT
DTSTART:20250309T070000
END:DAYLIGHT
BEGIN:STANDARD
TZOFFSETFROM:-0400
TZOFFSETTO:-0500
TZNAME:EST
DTSTART:20251102T060000
END:STANDARD
BEGIN:DAYLIGHT
TZOFFSETFROM:-0500
TZOFFSETTO:-0400
TZNAME:EDT
DTSTART:20260308T070000
END:DAYLIGHT
BEGIN:STANDARD
TZOFFSETFROM:-0400
TZOFFSETTO:-0500
TZNAME:EST
DTSTART:20261101T060000
END:STANDARD
END:VTIMEZONE
BEGIN:VEVENT
DTSTART;TZID=America/New_York:20250306T000000
DTEND;TZID=America/New_York:20250306T235900
DTSTAMP:20260422T095812
CREATED:20240206T213048Z
LAST-MODIFIED:20260325T133202Z
UID:10072708-1741219200-1741305540@biltmorehotel.com
SUMMARY:BWGA
DESCRIPTION:
URL:https://biltmorehotel.com/event/bwga/2025-03-06/
LOCATION:Golf Course\, 1200 Anastasia Avenue\, Coral Gables\, FL\, 33134\, United States
CATEGORIES:Golf
END:VEVENT
BEGIN:VEVENT
DTSTART;TZID=America/New_York:20250310T093000
DTEND;TZID=America/New_York:20250310T170000
DTSTAMP:20260422T095812
CREATED:20250107T151403Z
LAST-MODIFIED:20260325T130512Z
UID:10066397-1741599000-1741626000@biltmorehotel.com
SUMMARY:Range Opens at 9:30 AM
DESCRIPTION:
URL:https://biltmorehotel.com/event/range-opens-at-930-am/2025-03-10/
LOCATION:Golf Course\, 1200 Anastasia Avenue\, Coral Gables\, FL\, 33134\, United States
CATEGORIES:Golf
END:VEVENT
BEGIN:VEVENT
DTSTART;TZID=America/New_York:20250310T100000
DTEND;TZID=America/New_York:20250310T190000
DTSTAMP:20260422T095812
CREATED:20250107T151222Z
LAST-MODIFIED:20260325T130244Z
UID:10065170-1741600800-1741633200@biltmorehotel.com
SUMMARY:Golf Course Tee Times Begin at 10 AM
DESCRIPTION:Closed until 10 am for maintenance.
URL:https://biltmorehotel.com/event/golf-course-play-begins-at-10-am/2025-03-10/
LOCATION:Golf Course\, 1200 Anastasia Avenue\, Coral Gables\, FL\, 33134\, United States
CATEGORIES:Golf
END:VEVENT
BEGIN:VEVENT
DTSTART;VALUE=DATE:20250313
DTEND;VALUE=DATE:20250314
DTSTAMP:20260422T095812
CREATED:20250305T161158Z
LAST-MODIFIED:20250305T161158Z
UID:10065176-1741824000-1741910399@biltmorehotel.com
SUMMARY:Biltmore Ladies Member-Guest Golf Tournament
DESCRIPTION:
URL:https://biltmorehotel.com/event/biltmore-ladies-member-guest-golf-tournament/
LOCATION:Golf Course\, 1200 Anastasia Avenue\, Coral Gables\, FL\, 33134\, United States
CATEGORIES:Golf
END:VEVENT
BEGIN:VEVENT
DTSTART;TZID=America/New_York:20250315T100000
DTEND;TZID=America/New_York:20250315T140000
DTSTAMP:20260422T095812
CREATED:20250305T161336Z
LAST-MODIFIED:20250305T161336Z
UID:10065177-1742032800-1742047200@biltmorehotel.com
SUMMARY:Callaway Demo Day | GOLF
DESCRIPTION:
URL:https://biltmorehotel.com/event/callaway-demo-day-golf/
LOCATION:Golf Course\, 1200 Anastasia Avenue\, Coral Gables\, FL\, 33134\, United States
CATEGORIES:Golf
END:VEVENT
BEGIN:VEVENT
DTSTART;TZID=America/New_York:20250317T093000
DTEND;TZID=America/New_York:20250317T170000
DTSTAMP:20260422T095812
CREATED:20250107T151403Z
LAST-MODIFIED:20260325T130512Z
UID:10066398-1742203800-1742230800@biltmorehotel.com
SUMMARY:Range Opens at 9:30 AM
DESCRIPTION:
URL:https://biltmorehotel.com/event/range-opens-at-930-am/2025-03-17/
LOCATION:Golf Course\, 1200 Anastasia Avenue\, Coral Gables\, FL\, 33134\, United States
CATEGORIES:Golf
END:VEVENT
BEGIN:VEVENT
DTSTART;TZID=America/New_York:20250317T100000
DTEND;TZID=America/New_York:20250317T180000
DTSTAMP:20260422T095812
CREATED:20250107T151222Z
LAST-MODIFIED:20260325T130244Z
UID:10065171-1742205600-1742234400@biltmorehotel.com
SUMMARY:Golf Course Tee Times Begin at 10 AM
DESCRIPTION:Closed until 10 am for maintenance.
URL:https://biltmorehotel.com/event/golf-course-play-begins-at-10-am/2025-03-17/
LOCATION:Golf Course\, 1200 Anastasia Avenue\, Coral Gables\, FL\, 33134\, United States
CATEGORIES:Golf
END:VEVENT
BEGIN:VEVENT
DTSTART;TZID=America/New_York:20250320T000000
DTEND;TZID=America/New_York:20250320T235900
DTSTAMP:20260422T095812
CREATED:20240206T213048Z
LAST-MODIFIED:20260325T133202Z
UID:10072709-1742428800-1742515140@biltmorehotel.com
SUMMARY:BWGA
DESCRIPTION:
URL:https://biltmorehotel.com/event/bwga/2025-03-20/
LOCATION:Golf Course\, 1200 Anastasia Avenue\, Coral Gables\, FL\, 33134\, United States
CATEGORIES:Golf
END:VEVENT
BEGIN:VEVENT
DTSTART;TZID=America/New_York:20250321T123000
DTEND;TZID=America/New_York:20250321T180000
DTSTAMP:20260422T095812
CREATED:20250305T160932Z
LAST-MODIFIED:20250305T160932Z
UID:10065174-1742560200-1742580000@biltmorehotel.com
SUMMARY:Biltmore Shutdown Tournament - Shotgun Starts at 12:30PM
DESCRIPTION:
URL:https://biltmorehotel.com/event/biltmore-shutdown-tournament-shotgun-starts-at-1230pm/
LOCATION:Golf Course\, 1200 Anastasia Avenue\, Coral Gables\, FL\, 33134\, United States
CATEGORIES:Golf
END:VEVENT
BEGIN:VEVENT
DTSTART;TZID=America/New_York:20250324T093000
DTEND;TZID=America/New_York:20250324T170000
DTSTAMP:20260422T095812
CREATED:20250107T151403Z
LAST-MODIFIED:20260325T130512Z
UID:10066399-1742808600-1742835600@biltmorehotel.com
SUMMARY:Range Opens at 9:30 AM
DESCRIPTION:
URL:https://biltmorehotel.com/event/range-opens-at-930-am/2025-03-24/
LOCATION:Golf Course\, 1200 Anastasia Avenue\, Coral Gables\, FL\, 33134\, United States
CATEGORIES:Golf
END:VEVENT
BEGIN:VEVENT
DTSTART;TZID=America/New_York:20250324T100000
DTEND;TZID=America/New_York:20250324T190000
DTSTAMP:20260422T095812
CREATED:20250107T151222Z
LAST-MODIFIED:20260325T130244Z
UID:10065172-1742810400-1742842800@biltmorehotel.com
SUMMARY:Golf Course Tee Times Begin at 10 AM
DESCRIPTION:Closed until 10 am for maintenance.
URL:https://biltmorehotel.com/event/golf-course-play-begins-at-10-am/2025-03-24/
LOCATION:Golf Course\, 1200 Anastasia Avenue\, Coral Gables\, FL\, 33134\, United States
CATEGORIES:Golf
END:VEVENT
BEGIN:VEVENT
DTSTART;TZID=America/New_York:20250329T093000
DTEND;TZID=America/New_York:20250329T190000
DTSTAMP:20260422T095812
CREATED:20250305T161049Z
LAST-MODIFIED:20250305T161049Z
UID:10065175-1743240600-1743274800@biltmorehotel.com
SUMMARY:Golf Course Tee Times Begin at 9 PM
DESCRIPTION:Biltmore Men’s Golf Association March Tournament
URL:https://biltmorehotel.com/event/golf-course-tee-times-begin-at-9-pm/
LOCATION:Golf Course\, 1200 Anastasia Avenue\, Coral Gables\, FL\, 33134\, United States
CATEGORIES:Golf
END:VEVENT
BEGIN:VEVENT
DTSTART;TZID=America/New_York:20250331T093000
DTEND;TZID=America/New_York:20250331T170000
DTSTAMP:20260422T095812
CREATED:20250107T151403Z
LAST-MODIFIED:20260325T130512Z
UID:10066400-1743413400-1743440400@biltmorehotel.com
SUMMARY:Range Opens at 9:30 AM
DESCRIPTION:
URL:https://biltmorehotel.com/event/range-opens-at-930-am/2025-03-31/
LOCATION:Golf Course\, 1200 Anastasia Avenue\, Coral Gables\, FL\, 33134\, United States
CATEGORIES:Golf
END:VEVENT
BEGIN:VEVENT
DTSTART;TZID=America/New_York:20250331T100000
DTEND;TZID=America/New_York:20250331T190000
DTSTAMP:20260422T095812
CREATED:20250107T151222Z
LAST-MODIFIED:20260325T130244Z
UID:10065173-1743415200-1743447600@biltmorehotel.com
SUMMARY:Golf Course Tee Times Begin at 10 AM
DESCRIPTION:Closed until 10 am for maintenance.
URL:https://biltmorehotel.com/event/golf-course-play-begins-at-10-am/2025-03-31/
LOCATION:Golf Course\, 1200 Anastasia Avenue\, Coral Gables\, FL\, 33134\, United States
CATEGORIES:Golf
END:VEVENT
BEGIN:VEVENT
DTSTART;TZID=America/New_York:20250403T000000
DTEND;TZID=America/New_York:20250403T235900
DTSTAMP:20260422T095812
CREATED:20240206T213048Z
LAST-MODIFIED:20260325T133202Z
UID:10072710-1743638400-1743724740@biltmorehotel.com
SUMMARY:BWGA
DESCRIPTION:
URL:https://biltmorehotel.com/event/bwga/2025-04-03/
LOCATION:Golf Course\, 1200 Anastasia Avenue\, Coral Gables\, FL\, 33134\, United States
CATEGORIES:Golf
END:VEVENT
BEGIN:VEVENT
DTSTART;TZID=America/New_York:20250404T080000
DTEND;TZID=America/New_York:20250404T090000
DTSTAMP:20260422T095812
CREATED:20250408T151202Z
LAST-MODIFIED:20250408T151202Z
UID:10066405-1743753600-1743757200@biltmorehotel.com
SUMMARY:Biltmore's Woman's Club Golf Championship
DESCRIPTION:Tee times from 8 am to 9 am.
URL:https://biltmorehotel.com/event/biltmores-womans-club-golf-championship/
LOCATION:Golf Course\, 1200 Anastasia Avenue\, Coral Gables\, FL\, 33134\, United States
CATEGORIES:Golf
END:VEVENT
BEGIN:VEVENT
DTSTART;TZID=America/New_York:20250407T093000
DTEND;TZID=America/New_York:20250407T170000
DTSTAMP:20260422T095812
CREATED:20250107T151403Z
LAST-MODIFIED:20260325T130512Z
UID:10066401-1744018200-1744045200@biltmorehotel.com
SUMMARY:Range Opens at 9:30 AM
DESCRIPTION:
URL:https://biltmorehotel.com/event/range-opens-at-930-am/2025-04-07/
LOCATION:Golf Course\, 1200 Anastasia Avenue\, Coral Gables\, FL\, 33134\, United States
CATEGORIES:Golf
END:VEVENT
BEGIN:VEVENT
DTSTART;TZID=America/New_York:20250407T100000
DTEND;TZID=America/New_York:20250407T180000
DTSTAMP:20260422T095812
CREATED:20250107T151222Z
LAST-MODIFIED:20260325T130244Z
UID:10066387-1744020000-1744048800@biltmorehotel.com
SUMMARY:Golf Course Tee Times Begin at 10 AM
DESCRIPTION:Closed until 10 am for maintenance.
URL:https://biltmorehotel.com/event/golf-course-play-begins-at-10-am/2025-04-07/
LOCATION:Golf Course\, 1200 Anastasia Avenue\, Coral Gables\, FL\, 33134\, United States
CATEGORIES:Golf
END:VEVENT
BEGIN:VEVENT
DTSTART;TZID=America/New_York:20250409T100000
DTEND;TZID=America/New_York:20250409T104500
DTSTAMP:20260422T095812
CREATED:20250408T151326Z
LAST-MODIFIED:20250408T151326Z
UID:10066406-1744192800-1744195500@biltmorehotel.com
SUMMARY:Golf Group of 20
DESCRIPTION:
URL:https://biltmorehotel.com/event/golf-group-of-20/
LOCATION:Golf Course\, 1200 Anastasia Avenue\, Coral Gables\, FL\, 33134\, United States
CATEGORIES:Golf
END:VEVENT
BEGIN:VEVENT
DTSTART;TZID=America/New_York:20250410T000000
DTEND;TZID=America/New_York:20250410T235900
DTSTAMP:20260422T095812
CREATED:20240206T213048Z
LAST-MODIFIED:20260325T133202Z
UID:10072711-1744243200-1744329540@biltmorehotel.com
SUMMARY:BWGA
DESCRIPTION:
URL:https://biltmorehotel.com/event/bwga/2025-04-10/
LOCATION:Golf Course\, 1200 Anastasia Avenue\, Coral Gables\, FL\, 33134\, United States
CATEGORIES:Golf
END:VEVENT
BEGIN:VEVENT
DTSTART;TZID=America/New_York:20250414T093000
DTEND;TZID=America/New_York:20250414T170000
DTSTAMP:20260422T095813
CREATED:20250107T151403Z
LAST-MODIFIED:20260325T130512Z
UID:10066402-1744623000-1744650000@biltmorehotel.com
SUMMARY:Range Opens at 9:30 AM
DESCRIPTION:
URL:https://biltmorehotel.com/event/range-opens-at-930-am/2025-04-14/
LOCATION:Golf Course\, 1200 Anastasia Avenue\, Coral Gables\, FL\, 33134\, United States
CATEGORIES:Golf
END:VEVENT
BEGIN:VEVENT
DTSTART;TZID=America/New_York:20250414T100000
DTEND;TZID=America/New_York:20250414T180000
DTSTAMP:20260422T095813
CREATED:20250107T151222Z
LAST-MODIFIED:20260325T130244Z
UID:10066388-1744624800-1744653600@biltmorehotel.com
SUMMARY:Golf Course Tee Times Begin at 10 AM
DESCRIPTION:Closed until 10 am for maintenance.
URL:https://biltmorehotel.com/event/golf-course-play-begins-at-10-am/2025-04-14/
LOCATION:Golf Course\, 1200 Anastasia Avenue\, Coral Gables\, FL\, 33134\, United States
CATEGORIES:Golf
END:VEVENT
BEGIN:VEVENT
DTSTART;TZID=America/New_York:20250417T000000
DTEND;TZID=America/New_York:20250417T235900
DTSTAMP:20260422T095813
CREATED:20240206T213048Z
LAST-MODIFIED:20260325T133202Z
UID:10072712-1744848000-1744934340@biltmorehotel.com
SUMMARY:BWGA
DESCRIPTION:
URL:https://biltmorehotel.com/event/bwga/2025-04-17/
LOCATION:Golf Course\, 1200 Anastasia Avenue\, Coral Gables\, FL\, 33134\, United States
CATEGORIES:Golf
END:VEVENT
BEGIN:VEVENT
DTSTART;TZID=America/New_York:20250421T093000
DTEND;TZID=America/New_York:20250421T170000
DTSTAMP:20260422T095813
CREATED:20250107T151403Z
LAST-MODIFIED:20260325T130512Z
UID:10066403-1745227800-1745254800@biltmorehotel.com
SUMMARY:Range Opens at 9:30 AM
DESCRIPTION:
URL:https://biltmorehotel.com/event/range-opens-at-930-am/2025-04-21/
LOCATION:Golf Course\, 1200 Anastasia Avenue\, Coral Gables\, FL\, 33134\, United States
CATEGORIES:Golf
END:VEVENT
BEGIN:VEVENT
DTSTART;TZID=America/New_York:20250421T100000
DTEND;TZID=America/New_York:20250421T180000
DTSTAMP:20260422T095813
CREATED:20250107T151222Z
LAST-MODIFIED:20260325T130244Z
UID:10066389-1745229600-1745258400@biltmorehotel.com
SUMMARY:Golf Course Tee Times Begin at 10 AM
DESCRIPTION:Closed until 10 am for maintenance.
URL:https://biltmorehotel.com/event/golf-course-play-begins-at-10-am/2025-04-21/
LOCATION:Golf Course\, 1200 Anastasia Avenue\, Coral Gables\, FL\, 33134\, United States
CATEGORIES:Golf
END:VEVENT
BEGIN:VEVENT
DTSTART;TZID=America/New_York:20250422T110000
DTEND;TZID=America/New_York:20250422T173000
DTSTAMP:20260422T095813
CREATED:20250408T151550Z
LAST-MODIFIED:20250408T151600Z
UID:10066407-1745319600-1745343000@biltmorehotel.com
SUMMARY:Golf Closure
DESCRIPTION:Course Closed from 11 am – 2 pm and 3:30 pm – 5:30 pm.
URL:https://biltmorehotel.com/event/golf-closure/
LOCATION:Golf Course\, 1200 Anastasia Avenue\, Coral Gables\, FL\, 33134\, United States
CATEGORIES:Golf
END:VEVENT
BEGIN:VEVENT
DTSTART;TZID=America/New_York:20250424T000000
DTEND;TZID=America/New_York:20250424T235900
DTSTAMP:20260422T095813
CREATED:20240206T213048Z
LAST-MODIFIED:20260325T133202Z
UID:10072713-1745452800-1745539140@biltmorehotel.com
SUMMARY:BWGA
DESCRIPTION:
URL:https://biltmorehotel.com/event/bwga/2025-04-24/
LOCATION:Golf Course\, 1200 Anastasia Avenue\, Coral Gables\, FL\, 33134\, United States
CATEGORIES:Golf
END:VEVENT
BEGIN:VEVENT
DTSTART;TZID=America/New_York:20250424T150000
DTEND;TZID=America/New_York:20250424T180000
DTSTAMP:20260422T095813
CREATED:20250408T151713Z
LAST-MODIFIED:20250408T151713Z
UID:10066408-1745506800-1745517600@biltmorehotel.com
SUMMARY:3 PM Shotgun Men's Member-Guest Par 3 Tournament
DESCRIPTION:
URL:https://biltmorehotel.com/event/3-pm-shotgun-mens-member-guest-par-3-tournament/
LOCATION:Golf Course\, 1200 Anastasia Avenue\, Coral Gables\, FL\, 33134\, United States
CATEGORIES:Golf
END:VEVENT
BEGIN:VEVENT
DTSTART;VALUE=DATE:20250425
DTEND;VALUE=DATE:20250426
DTSTAMP:20260422T095813
CREATED:20250107T151908Z
LAST-MODIFIED:20250408T151845Z
UID:10066409-1745560800-1745611200@biltmorehotel.com
SUMMARY:GOLF COURSE CLOSED
DESCRIPTION:
URL:https://biltmorehotel.com/event/golf-course-closed/2025-04-25/
LOCATION:Golf Course\, 1200 Anastasia Avenue\, Coral Gables\, FL\, 33134\, United States
CATEGORIES:Golf
END:VEVENT
BEGIN:VEVENT
DTSTART;TZID=America/New_York:20250426T150000
DTEND;TZID=America/New_York:20250426T190000
DTSTAMP:20260422T095813
CREATED:20250408T151953Z
LAST-MODIFIED:20250408T152011Z
UID:10066410-1745679600-1745694000@biltmorehotel.com
SUMMARY:Golf Course Opens at 3 pm
DESCRIPTION:Course closed until 3 pm for Men’s Member-Guest Tournament.
URL:https://biltmorehotel.com/event/golf-course-opens-at-3-pm/
LOCATION:Golf Course\, 1200 Anastasia Avenue\, Coral Gables\, FL\, 33134\, United States
CATEGORIES:Golf
END:VEVENT
END:VCALENDAR