BEGIN:VCALENDAR
VERSION:2.0
PRODID:-//The Biltmore Hotel - ECPv6.15.20//NONSGML v1.0//EN
CALSCALE:GREGORIAN
METHOD:PUBLISH
X-ORIGINAL-URL:https://biltmorehotel.com
X-WR-CALDESC:Events for The Biltmore Hotel
REFRESH-INTERVAL;VALUE=DURATION:PT1H
X-Robots-Tag:noindex
X-PUBLISHED-TTL:PT1H
BEGIN:VTIMEZONE
TZID:America/New_York
BEGIN:DAYLIGHT
TZOFFSETFROM:-0500
TZOFFSETTO:-0400
TZNAME:EDT
DTSTART:20240310T070000
END:DAYLIGHT
BEGIN:STANDARD
TZOFFSETFROM:-0400
TZOFFSETTO:-0500
TZNAME:EST
DTSTART:20241103T060000
END:STANDARD
BEGIN:DAYLIGHT
TZOFFSETFROM:-0500
TZOFFSETTO:-0400
TZNAME:EDT
DTSTART:20250309T070000
END:DAYLIGHT
BEGIN:STANDARD
TZOFFSETFROM:-0400
TZOFFSETTO:-0500
TZNAME:EST
DTSTART:20251102T060000
END:STANDARD
BEGIN:DAYLIGHT
TZOFFSETFROM:-0500
TZOFFSETTO:-0400
TZNAME:EDT
DTSTART:20260308T070000
END:DAYLIGHT
BEGIN:STANDARD
TZOFFSETFROM:-0400
TZOFFSETTO:-0500
TZNAME:EST
DTSTART:20261101T060000
END:STANDARD
END:VTIMEZONE
BEGIN:VEVENT
DTSTART;TZID=America/New_York:20250502T203000
DTEND;TZID=America/New_York:20250502T233000
DTSTAMP:20260421T134358
CREATED:20230921T205133Z
LAST-MODIFIED:20241022T160743Z
UID:10020569-1746217800-1746228600@biltmorehotel.com
SUMMARY:Live Music
DESCRIPTION:
URL:https://biltmorehotel.com/event/live-music/2025-05-02/
LOCATION:Biltmore Bar
CATEGORIES:Property
END:VEVENT
BEGIN:VEVENT
DTSTART;TZID=America/New_York:20250503T203000
DTEND;TZID=America/New_York:20250503T233000
DTSTAMP:20260421T134358
CREATED:20230921T205250Z
LAST-MODIFIED:20241022T154531Z
UID:10020829-1746304200-1746315000@biltmorehotel.com
SUMMARY:Live Music
DESCRIPTION:
URL:https://biltmorehotel.com/event/live-music-2/2025-05-03/
LOCATION:Biltmore Bar
CATEGORIES:Property
END:VEVENT
BEGIN:VEVENT
DTSTART;TZID=America/New_York:20250504T140000
DTEND;TZID=America/New_York:20250504T150000
DTSTAMP:20260421T134358
CREATED:20230921T030336Z
LAST-MODIFIED:20251216T190238Z
UID:10063486-1746367200-1746370800@biltmorehotel.com
SUMMARY:History Tours
DESCRIPTION:You must pre-register through Dade Heritage Trust’s Eventbrite page.  Meet your guide at the fireplace at the east end of the Main Lobby for a walking tour of the hotel. The tour focuses on the architecture\, history and cultural heritage of the Biltmore Hotel.
URL:https://biltmorehotel.com/event/history-tours/2025-05-04/
LOCATION:Biltmore Hotel Lobby
CATEGORIES:Property
END:VEVENT
BEGIN:VEVENT
DTSTART;TZID=America/New_York:20250508T090000
DTEND;TZID=America/New_York:20250508T180000
DTSTAMP:20260421T134358
CREATED:20250430T191733Z
LAST-MODIFIED:20250430T191733Z
UID:10066458-1746694800-1746727200@biltmorehotel.com
SUMMARY:Trunk Show\, presented by Peacock & Finch
DESCRIPTION:May 8th & 9th\nPeacock & Finch is proud to showcase impressive designers and unique designs.\nLower Lobby\n9 AM – 6 PM \nMay 8th featuring Isabella Adams\nMay 9th featuring Herbal Sanctuary
URL:https://biltmorehotel.com/event/trunk-show-presented-by-peacock-finch/2025-05-08/
LOCATION:Biltmore Hotel Lobby
CATEGORIES:Property
END:VEVENT
BEGIN:VEVENT
DTSTART;TZID=America/New_York:20250509T090000
DTEND;TZID=America/New_York:20250509T180000
DTSTAMP:20260421T134358
CREATED:20250430T191733Z
LAST-MODIFIED:20250430T191733Z
UID:10066467-1746781200-1746813600@biltmorehotel.com
SUMMARY:Trunk Show\, presented by Peacock & Finch
DESCRIPTION:May 8th & 9th\nPeacock & Finch is proud to showcase impressive designers and unique designs.\nLower Lobby\n9 AM – 6 PM \nMay 8th featuring Isabella Adams\nMay 9th featuring Herbal Sanctuary
URL:https://biltmorehotel.com/event/trunk-show-presented-by-peacock-finch/2025-05-09/
LOCATION:Biltmore Hotel Lobby
CATEGORIES:Property
END:VEVENT
BEGIN:VEVENT
DTSTART;TZID=America/New_York:20250509T203000
DTEND;TZID=America/New_York:20250509T233000
DTSTAMP:20260421T134358
CREATED:20230921T205133Z
LAST-MODIFIED:20241022T160743Z
UID:10020570-1746822600-1746833400@biltmorehotel.com
SUMMARY:Live Music
DESCRIPTION:
URL:https://biltmorehotel.com/event/live-music/2025-05-09/
LOCATION:Biltmore Bar
CATEGORIES:Property
END:VEVENT
BEGIN:VEVENT
DTSTART;TZID=America/New_York:20250510T203000
DTEND;TZID=America/New_York:20250510T233000
DTSTAMP:20260421T134358
CREATED:20230921T205250Z
LAST-MODIFIED:20241022T154531Z
UID:10020830-1746909000-1746919800@biltmorehotel.com
SUMMARY:Live Music
DESCRIPTION:
URL:https://biltmorehotel.com/event/live-music-2/2025-05-10/
LOCATION:Biltmore Bar
CATEGORIES:Property
END:VEVENT
BEGIN:VEVENT
DTSTART;TZID=America/New_York:20250511T140000
DTEND;TZID=America/New_York:20250511T150000
DTSTAMP:20260421T134358
CREATED:20230921T030336Z
LAST-MODIFIED:20251216T190238Z
UID:10063487-1746972000-1746975600@biltmorehotel.com
SUMMARY:History Tours
DESCRIPTION:You must pre-register through Dade Heritage Trust’s Eventbrite page.  Meet your guide at the fireplace at the east end of the Main Lobby for a walking tour of the hotel. The tour focuses on the architecture\, history and cultural heritage of the Biltmore Hotel.
URL:https://biltmorehotel.com/event/history-tours/2025-05-11/
LOCATION:Biltmore Hotel Lobby
CATEGORIES:Property
END:VEVENT
BEGIN:VEVENT
DTSTART;TZID=America/New_York:20250516T203000
DTEND;TZID=America/New_York:20250516T233000
DTSTAMP:20260421T134358
CREATED:20230921T205133Z
LAST-MODIFIED:20241022T160743Z
UID:10020571-1747427400-1747438200@biltmorehotel.com
SUMMARY:Live Music
DESCRIPTION:
URL:https://biltmorehotel.com/event/live-music/2025-05-16/
LOCATION:Biltmore Bar
CATEGORIES:Property
END:VEVENT
BEGIN:VEVENT
DTSTART;TZID=America/New_York:20250517T203000
DTEND;TZID=America/New_York:20250517T233000
DTSTAMP:20260421T134358
CREATED:20230921T205250Z
LAST-MODIFIED:20241022T154531Z
UID:10020831-1747513800-1747524600@biltmorehotel.com
SUMMARY:Live Music
DESCRIPTION:
URL:https://biltmorehotel.com/event/live-music-2/2025-05-17/
LOCATION:Biltmore Bar
CATEGORIES:Property
END:VEVENT
BEGIN:VEVENT
DTSTART;TZID=America/New_York:20250518T140000
DTEND;TZID=America/New_York:20250518T150000
DTSTAMP:20260421T134358
CREATED:20230921T030336Z
LAST-MODIFIED:20251216T190238Z
UID:10063488-1747576800-1747580400@biltmorehotel.com
SUMMARY:History Tours
DESCRIPTION:You must pre-register through Dade Heritage Trust’s Eventbrite page.  Meet your guide at the fireplace at the east end of the Main Lobby for a walking tour of the hotel. The tour focuses on the architecture\, history and cultural heritage of the Biltmore Hotel.
URL:https://biltmorehotel.com/event/history-tours/2025-05-18/
LOCATION:Biltmore Hotel Lobby
CATEGORIES:Property
END:VEVENT
BEGIN:VEVENT
DTSTART;TZID=America/New_York:20250523T203000
DTEND;TZID=America/New_York:20250523T233000
DTSTAMP:20260421T134358
CREATED:20230921T205133Z
LAST-MODIFIED:20241022T160743Z
UID:10020572-1748032200-1748043000@biltmorehotel.com
SUMMARY:Live Music
DESCRIPTION:
URL:https://biltmorehotel.com/event/live-music/2025-05-23/
LOCATION:Biltmore Bar
CATEGORIES:Property
END:VEVENT
BEGIN:VEVENT
DTSTART;TZID=America/New_York:20250524T203000
DTEND;TZID=America/New_York:20250524T233000
DTSTAMP:20260421T134358
CREATED:20230921T205250Z
LAST-MODIFIED:20241022T154531Z
UID:10020832-1748118600-1748129400@biltmorehotel.com
SUMMARY:Live Music
DESCRIPTION:
URL:https://biltmorehotel.com/event/live-music-2/2025-05-24/
LOCATION:Biltmore Bar
CATEGORIES:Property
END:VEVENT
BEGIN:VEVENT
DTSTART;TZID=America/New_York:20250525T140000
DTEND;TZID=America/New_York:20250525T150000
DTSTAMP:20260421T134358
CREATED:20230921T030336Z
LAST-MODIFIED:20251216T190238Z
UID:10063489-1748181600-1748185200@biltmorehotel.com
SUMMARY:History Tours
DESCRIPTION:You must pre-register through Dade Heritage Trust’s Eventbrite page.  Meet your guide at the fireplace at the east end of the Main Lobby for a walking tour of the hotel. The tour focuses on the architecture\, history and cultural heritage of the Biltmore Hotel.
URL:https://biltmorehotel.com/event/history-tours/2025-05-25/
LOCATION:Biltmore Hotel Lobby
CATEGORIES:Property
END:VEVENT
BEGIN:VEVENT
DTSTART;TZID=America/New_York:20250530T203000
DTEND;TZID=America/New_York:20250530T233000
DTSTAMP:20260421T134358
CREATED:20230921T205133Z
LAST-MODIFIED:20241022T160743Z
UID:10020573-1748637000-1748647800@biltmorehotel.com
SUMMARY:Live Music
DESCRIPTION:
URL:https://biltmorehotel.com/event/live-music/2025-05-30/
LOCATION:Biltmore Bar
CATEGORIES:Property
END:VEVENT
BEGIN:VEVENT
DTSTART;TZID=America/New_York:20250531T203000
DTEND;TZID=America/New_York:20250531T233000
DTSTAMP:20260421T134358
CREATED:20230921T205250Z
LAST-MODIFIED:20241022T154531Z
UID:10020833-1748723400-1748734200@biltmorehotel.com
SUMMARY:Live Music
DESCRIPTION:
URL:https://biltmorehotel.com/event/live-music-2/2025-05-31/
LOCATION:Biltmore Bar
CATEGORIES:Property
END:VEVENT
BEGIN:VEVENT
DTSTART;TZID=America/New_York:20250601T090000
DTEND;TZID=America/New_York:20250601T180000
DTSTAMP:20260421T134358
CREATED:20250430T195041Z
LAST-MODIFIED:20250430T195041Z
UID:10066457-1748768400-1748800800@biltmorehotel.com
SUMMARY:Trunk Shows\, presented by Peacock & Finch
DESCRIPTION:June 1st & 14th\, 2025\nPeacock & Finch is proud to showcase impressive designers and unique designs.\nLower Lobby\n9 AM – 6 PM \nJune 1st – Daniel Mark\nJune 14th – Lexi and South Florida Clothing
URL:https://biltmorehotel.com/event/trunk-shows-presented-by-peacock-finch/
LOCATION:Biltmore Hotel Lobby
CATEGORIES:Property
END:VEVENT
BEGIN:VEVENT
DTSTART;TZID=America/New_York:20250601T140000
DTEND;TZID=America/New_York:20250601T150000
DTSTAMP:20260421T134358
CREATED:20230921T030336Z
LAST-MODIFIED:20251216T190238Z
UID:10063490-1748786400-1748790000@biltmorehotel.com
SUMMARY:History Tours
DESCRIPTION:You must pre-register through Dade Heritage Trust’s Eventbrite page.  Meet your guide at the fireplace at the east end of the Main Lobby for a walking tour of the hotel. The tour focuses on the architecture\, history and cultural heritage of the Biltmore Hotel.
URL:https://biltmorehotel.com/event/history-tours/2025-06-01/
LOCATION:Biltmore Hotel Lobby
CATEGORIES:Property
END:VEVENT
BEGIN:VEVENT
DTSTART;TZID=America/New_York:20250606T203000
DTEND;TZID=America/New_York:20250606T233000
DTSTAMP:20260421T134358
CREATED:20230921T205133Z
LAST-MODIFIED:20241022T160743Z
UID:10020574-1749241800-1749252600@biltmorehotel.com
SUMMARY:Live Music
DESCRIPTION:
URL:https://biltmorehotel.com/event/live-music/2025-06-06/
LOCATION:Biltmore Bar
CATEGORIES:Property
END:VEVENT
BEGIN:VEVENT
DTSTART;TZID=America/New_York:20250607T203000
DTEND;TZID=America/New_York:20250607T233000
DTSTAMP:20260421T134358
CREATED:20230921T205250Z
LAST-MODIFIED:20241022T154531Z
UID:10020834-1749328200-1749339000@biltmorehotel.com
SUMMARY:Live Music
DESCRIPTION:
URL:https://biltmorehotel.com/event/live-music-2/2025-06-07/
LOCATION:Biltmore Bar
CATEGORIES:Property
END:VEVENT
BEGIN:VEVENT
DTSTART;TZID=America/New_York:20250608T140000
DTEND;TZID=America/New_York:20250608T150000
DTSTAMP:20260421T134358
CREATED:20230921T030336Z
LAST-MODIFIED:20251216T190238Z
UID:10063491-1749391200-1749394800@biltmorehotel.com
SUMMARY:History Tours
DESCRIPTION:You must pre-register through Dade Heritage Trust’s Eventbrite page.  Meet your guide at the fireplace at the east end of the Main Lobby for a walking tour of the hotel. The tour focuses on the architecture\, history and cultural heritage of the Biltmore Hotel.
URL:https://biltmorehotel.com/event/history-tours/2025-06-08/
LOCATION:Biltmore Hotel Lobby
CATEGORIES:Property
END:VEVENT
BEGIN:VEVENT
DTSTART;TZID=America/New_York:20250613T203000
DTEND;TZID=America/New_York:20250613T233000
DTSTAMP:20260421T134358
CREATED:20230921T205133Z
LAST-MODIFIED:20241022T160743Z
UID:10020575-1749846600-1749857400@biltmorehotel.com
SUMMARY:Live Music
DESCRIPTION:
URL:https://biltmorehotel.com/event/live-music/2025-06-13/
LOCATION:Biltmore Bar
CATEGORIES:Property
END:VEVENT
BEGIN:VEVENT
DTSTART;TZID=America/New_York:20250614T203000
DTEND;TZID=America/New_York:20250614T233000
DTSTAMP:20260421T134358
CREATED:20230921T205250Z
LAST-MODIFIED:20241022T154531Z
UID:10020835-1749933000-1749943800@biltmorehotel.com
SUMMARY:Live Music
DESCRIPTION:
URL:https://biltmorehotel.com/event/live-music-2/2025-06-14/
LOCATION:Biltmore Bar
CATEGORIES:Property
END:VEVENT
BEGIN:VEVENT
DTSTART;TZID=America/New_York:20250615T140000
DTEND;TZID=America/New_York:20250615T150000
DTSTAMP:20260421T134358
CREATED:20230921T030336Z
LAST-MODIFIED:20251216T190238Z
UID:10063492-1749996000-1749999600@biltmorehotel.com
SUMMARY:History Tours
DESCRIPTION:You must pre-register through Dade Heritage Trust’s Eventbrite page.  Meet your guide at the fireplace at the east end of the Main Lobby for a walking tour of the hotel. The tour focuses on the architecture\, history and cultural heritage of the Biltmore Hotel.
URL:https://biltmorehotel.com/event/history-tours/2025-06-15/
LOCATION:Biltmore Hotel Lobby
CATEGORIES:Property
END:VEVENT
BEGIN:VEVENT
DTSTART;TZID=America/New_York:20250620T203000
DTEND;TZID=America/New_York:20250620T233000
DTSTAMP:20260421T134358
CREATED:20230921T205133Z
LAST-MODIFIED:20241022T160743Z
UID:10020576-1750451400-1750462200@biltmorehotel.com
SUMMARY:Live Music
DESCRIPTION:
URL:https://biltmorehotel.com/event/live-music/2025-06-20/
LOCATION:Biltmore Bar
CATEGORIES:Property
END:VEVENT
BEGIN:VEVENT
DTSTART;TZID=America/New_York:20250621T203000
DTEND;TZID=America/New_York:20250621T233000
DTSTAMP:20260421T134358
CREATED:20230921T205250Z
LAST-MODIFIED:20241022T154531Z
UID:10020836-1750537800-1750548600@biltmorehotel.com
SUMMARY:Live Music
DESCRIPTION:
URL:https://biltmorehotel.com/event/live-music-2/2025-06-21/
LOCATION:Biltmore Bar
CATEGORIES:Property
END:VEVENT
BEGIN:VEVENT
DTSTART;TZID=America/New_York:20250622T140000
DTEND;TZID=America/New_York:20250622T150000
DTSTAMP:20260421T134358
CREATED:20230921T030336Z
LAST-MODIFIED:20251216T190238Z
UID:10063493-1750600800-1750604400@biltmorehotel.com
SUMMARY:History Tours
DESCRIPTION:You must pre-register through Dade Heritage Trust’s Eventbrite page.  Meet your guide at the fireplace at the east end of the Main Lobby for a walking tour of the hotel. The tour focuses on the architecture\, history and cultural heritage of the Biltmore Hotel.
URL:https://biltmorehotel.com/event/history-tours/2025-06-22/
LOCATION:Biltmore Hotel Lobby
CATEGORIES:Property
END:VEVENT
BEGIN:VEVENT
DTSTART;TZID=America/New_York:20250627T203000
DTEND;TZID=America/New_York:20250627T233000
DTSTAMP:20260421T134358
CREATED:20230921T205133Z
LAST-MODIFIED:20241022T160743Z
UID:10020577-1751056200-1751067000@biltmorehotel.com
SUMMARY:Live Music
DESCRIPTION:
URL:https://biltmorehotel.com/event/live-music/2025-06-27/
LOCATION:Biltmore Bar
CATEGORIES:Property
END:VEVENT
BEGIN:VEVENT
DTSTART;TZID=America/New_York:20250628T203000
DTEND;TZID=America/New_York:20250628T233000
DTSTAMP:20260421T134358
CREATED:20230921T205250Z
LAST-MODIFIED:20241022T154531Z
UID:10020837-1751142600-1751153400@biltmorehotel.com
SUMMARY:Live Music
DESCRIPTION:
URL:https://biltmorehotel.com/event/live-music-2/2025-06-28/
LOCATION:Biltmore Bar
CATEGORIES:Property
END:VEVENT
BEGIN:VEVENT
DTSTART;TZID=America/New_York:20250629T140000
DTEND;TZID=America/New_York:20250629T150000
DTSTAMP:20260421T134358
CREATED:20230921T030336Z
LAST-MODIFIED:20251216T190238Z
UID:10063494-1751205600-1751209200@biltmorehotel.com
SUMMARY:History Tours
DESCRIPTION:You must pre-register through Dade Heritage Trust’s Eventbrite page.  Meet your guide at the fireplace at the east end of the Main Lobby for a walking tour of the hotel. The tour focuses on the architecture\, history and cultural heritage of the Biltmore Hotel.
URL:https://biltmorehotel.com/event/history-tours/2025-06-29/
LOCATION:Biltmore Hotel Lobby
CATEGORIES:Property
END:VEVENT
END:VCALENDAR