BEGIN:VCALENDAR
VERSION:2.0
PRODID:-//The Biltmore Hotel - ECPv6.15.20//NONSGML v1.0//EN
CALSCALE:GREGORIAN
METHOD:PUBLISH
X-WR-CALNAME:The Biltmore Hotel
X-ORIGINAL-URL:https://biltmorehotel.com
X-WR-CALDESC:Events for The Biltmore Hotel
REFRESH-INTERVAL;VALUE=DURATION:PT1H
X-Robots-Tag:noindex
X-PUBLISHED-TTL:PT1H
BEGIN:VTIMEZONE
TZID:America/New_York
BEGIN:DAYLIGHT
TZOFFSETFROM:-0500
TZOFFSETTO:-0400
TZNAME:EDT
DTSTART:20250309T070000
END:DAYLIGHT
BEGIN:STANDARD
TZOFFSETFROM:-0400
TZOFFSETTO:-0500
TZNAME:EST
DTSTART:20251102T060000
END:STANDARD
BEGIN:DAYLIGHT
TZOFFSETFROM:-0500
TZOFFSETTO:-0400
TZNAME:EDT
DTSTART:20260308T070000
END:DAYLIGHT
BEGIN:STANDARD
TZOFFSETFROM:-0400
TZOFFSETTO:-0500
TZNAME:EST
DTSTART:20261101T060000
END:STANDARD
BEGIN:DAYLIGHT
TZOFFSETFROM:-0500
TZOFFSETTO:-0400
TZNAME:EDT
DTSTART:20270314T070000
END:DAYLIGHT
BEGIN:STANDARD
TZOFFSETFROM:-0400
TZOFFSETTO:-0500
TZNAME:EST
DTSTART:20271107T060000
END:STANDARD
END:VTIMEZONE
BEGIN:VEVENT
DTSTART;TZID=America/New_York:20260429T100000
DTEND;TZID=America/New_York:20260429T225500
DTSTAMP:20260424T064058
CREATED:20260422T171828Z
LAST-MODIFIED:20260422T171828Z
UID:10075195-1777456800-1777503300@biltmorehotel.com
SUMMARY:Fitness (55 minutes) with Maria B- Wed 11:15am
DESCRIPTION:Cardio-based workout promoting\, building\, and maintaining muscular strength and cardiovascular endurance.
URL:https://biltmorehotel.com/event/fitness-55-minutes-with-maria-b-wed-1115am/2026-04-29/
LOCATION:Fitness Studio
CATEGORIES:Fitness
END:VEVENT
BEGIN:VEVENT
DTSTART;TZID=America/New_York:20260506T100000
DTEND;TZID=America/New_York:20260506T225500
DTSTAMP:20260424T064058
CREATED:20260422T171828Z
LAST-MODIFIED:20260422T171828Z
UID:10075198-1778061600-1778108100@biltmorehotel.com
SUMMARY:Fitness (55 minutes) with Maria B- Wed 11:15am
DESCRIPTION:Cardio-based workout promoting\, building\, and maintaining muscular strength and cardiovascular endurance.
URL:https://biltmorehotel.com/event/fitness-55-minutes-with-maria-b-wed-1115am/2026-05-06/
LOCATION:Fitness Studio
CATEGORIES:Fitness
END:VEVENT
BEGIN:VEVENT
DTSTART;TZID=America/New_York:20260513T100000
DTEND;TZID=America/New_York:20260513T225500
DTSTAMP:20260424T064058
CREATED:20260422T171828Z
LAST-MODIFIED:20260422T171828Z
UID:10075201-1778666400-1778712900@biltmorehotel.com
SUMMARY:Fitness (55 minutes) with Maria B- Wed 11:15am
DESCRIPTION:Cardio-based workout promoting\, building\, and maintaining muscular strength and cardiovascular endurance.
URL:https://biltmorehotel.com/event/fitness-55-minutes-with-maria-b-wed-1115am/2026-05-13/
LOCATION:Fitness Studio
CATEGORIES:Fitness
END:VEVENT
BEGIN:VEVENT
DTSTART;TZID=America/New_York:20260520T100000
DTEND;TZID=America/New_York:20260520T225500
DTSTAMP:20260424T064058
CREATED:20260422T171828Z
LAST-MODIFIED:20260422T171828Z
UID:10075204-1779271200-1779317700@biltmorehotel.com
SUMMARY:Fitness (55 minutes) with Maria B- Wed 11:15am
DESCRIPTION:Cardio-based workout promoting\, building\, and maintaining muscular strength and cardiovascular endurance.
URL:https://biltmorehotel.com/event/fitness-55-minutes-with-maria-b-wed-1115am/2026-05-20/
LOCATION:Fitness Studio
CATEGORIES:Fitness
END:VEVENT
BEGIN:VEVENT
DTSTART;TZID=America/New_York:20260527T100000
DTEND;TZID=America/New_York:20260527T225500
DTSTAMP:20260424T064058
CREATED:20260422T171828Z
LAST-MODIFIED:20260422T171828Z
UID:10075207-1779876000-1779922500@biltmorehotel.com
SUMMARY:Fitness (55 minutes) with Maria B- Wed 11:15am
DESCRIPTION:Cardio-based workout promoting\, building\, and maintaining muscular strength and cardiovascular endurance.
URL:https://biltmorehotel.com/event/fitness-55-minutes-with-maria-b-wed-1115am/2026-05-27/
LOCATION:Fitness Studio
CATEGORIES:Fitness
END:VEVENT
BEGIN:VEVENT
DTSTART;TZID=America/New_York:20260603T100000
DTEND;TZID=America/New_York:20260603T225500
DTSTAMP:20260424T064058
CREATED:20260422T171828Z
LAST-MODIFIED:20260422T171828Z
UID:10075210-1780480800-1780527300@biltmorehotel.com
SUMMARY:Fitness (55 minutes) with Maria B- Wed 11:15am
DESCRIPTION:Cardio-based workout promoting\, building\, and maintaining muscular strength and cardiovascular endurance.
URL:https://biltmorehotel.com/event/fitness-55-minutes-with-maria-b-wed-1115am/2026-06-03/
LOCATION:Fitness Studio
CATEGORIES:Fitness
END:VEVENT
BEGIN:VEVENT
DTSTART;TZID=America/New_York:20260610T100000
DTEND;TZID=America/New_York:20260610T225500
DTSTAMP:20260424T064058
CREATED:20260422T171828Z
LAST-MODIFIED:20260422T171828Z
UID:10075213-1781085600-1781132100@biltmorehotel.com
SUMMARY:Fitness (55 minutes) with Maria B- Wed 11:15am
DESCRIPTION:Cardio-based workout promoting\, building\, and maintaining muscular strength and cardiovascular endurance.
URL:https://biltmorehotel.com/event/fitness-55-minutes-with-maria-b-wed-1115am/2026-06-10/
LOCATION:Fitness Studio
CATEGORIES:Fitness
END:VEVENT
BEGIN:VEVENT
DTSTART;TZID=America/New_York:20260617T100000
DTEND;TZID=America/New_York:20260617T225500
DTSTAMP:20260424T064058
CREATED:20260422T171828Z
LAST-MODIFIED:20260422T171828Z
UID:10075216-1781690400-1781736900@biltmorehotel.com
SUMMARY:Fitness (55 minutes) with Maria B- Wed 11:15am
DESCRIPTION:Cardio-based workout promoting\, building\, and maintaining muscular strength and cardiovascular endurance.
URL:https://biltmorehotel.com/event/fitness-55-minutes-with-maria-b-wed-1115am/2026-06-17/
LOCATION:Fitness Studio
CATEGORIES:Fitness
END:VEVENT
BEGIN:VEVENT
DTSTART;TZID=America/New_York:20260624T100000
DTEND;TZID=America/New_York:20260624T225500
DTSTAMP:20260424T064058
CREATED:20260422T171828Z
LAST-MODIFIED:20260422T171828Z
UID:10075219-1782295200-1782341700@biltmorehotel.com
SUMMARY:Fitness (55 minutes) with Maria B- Wed 11:15am
DESCRIPTION:Cardio-based workout promoting\, building\, and maintaining muscular strength and cardiovascular endurance.
URL:https://biltmorehotel.com/event/fitness-55-minutes-with-maria-b-wed-1115am/2026-06-24/
LOCATION:Fitness Studio
CATEGORIES:Fitness
END:VEVENT
BEGIN:VEVENT
DTSTART;TZID=America/New_York:20260701T100000
DTEND;TZID=America/New_York:20260701T225500
DTSTAMP:20260424T064058
CREATED:20260422T171828Z
LAST-MODIFIED:20260422T171828Z
UID:10075222-1782900000-1782946500@biltmorehotel.com
SUMMARY:Fitness (55 minutes) with Maria B- Wed 11:15am
DESCRIPTION:Cardio-based workout promoting\, building\, and maintaining muscular strength and cardiovascular endurance.
URL:https://biltmorehotel.com/event/fitness-55-minutes-with-maria-b-wed-1115am/2026-07-01/
LOCATION:Fitness Studio
CATEGORIES:Fitness
END:VEVENT
BEGIN:VEVENT
DTSTART;TZID=America/New_York:20260708T100000
DTEND;TZID=America/New_York:20260708T225500
DTSTAMP:20260424T064058
CREATED:20260422T171828Z
LAST-MODIFIED:20260422T171828Z
UID:10075225-1783504800-1783551300@biltmorehotel.com
SUMMARY:Fitness (55 minutes) with Maria B- Wed 11:15am
DESCRIPTION:Cardio-based workout promoting\, building\, and maintaining muscular strength and cardiovascular endurance.
URL:https://biltmorehotel.com/event/fitness-55-minutes-with-maria-b-wed-1115am/2026-07-08/
LOCATION:Fitness Studio
CATEGORIES:Fitness
END:VEVENT
BEGIN:VEVENT
DTSTART;TZID=America/New_York:20260715T100000
DTEND;TZID=America/New_York:20260715T225500
DTSTAMP:20260424T064058
CREATED:20260422T171828Z
LAST-MODIFIED:20260422T171828Z
UID:10075228-1784109600-1784156100@biltmorehotel.com
SUMMARY:Fitness (55 minutes) with Maria B- Wed 11:15am
DESCRIPTION:Cardio-based workout promoting\, building\, and maintaining muscular strength and cardiovascular endurance.
URL:https://biltmorehotel.com/event/fitness-55-minutes-with-maria-b-wed-1115am/2026-07-15/
LOCATION:Fitness Studio
CATEGORIES:Fitness
END:VEVENT
BEGIN:VEVENT
DTSTART;TZID=America/New_York:20260722T100000
DTEND;TZID=America/New_York:20260722T225500
DTSTAMP:20260424T064058
CREATED:20260422T171828Z
LAST-MODIFIED:20260422T171828Z
UID:10075231-1784714400-1784760900@biltmorehotel.com
SUMMARY:Fitness (55 minutes) with Maria B- Wed 11:15am
DESCRIPTION:Cardio-based workout promoting\, building\, and maintaining muscular strength and cardiovascular endurance.
URL:https://biltmorehotel.com/event/fitness-55-minutes-with-maria-b-wed-1115am/2026-07-22/
LOCATION:Fitness Studio
CATEGORIES:Fitness
END:VEVENT
BEGIN:VEVENT
DTSTART;TZID=America/New_York:20260729T100000
DTEND;TZID=America/New_York:20260729T225500
DTSTAMP:20260424T064058
CREATED:20260422T171828Z
LAST-MODIFIED:20260422T171828Z
UID:10075234-1785319200-1785365700@biltmorehotel.com
SUMMARY:Fitness (55 minutes) with Maria B- Wed 11:15am
DESCRIPTION:Cardio-based workout promoting\, building\, and maintaining muscular strength and cardiovascular endurance.
URL:https://biltmorehotel.com/event/fitness-55-minutes-with-maria-b-wed-1115am/2026-07-29/
LOCATION:Fitness Studio
CATEGORIES:Fitness
END:VEVENT
BEGIN:VEVENT
DTSTART;TZID=America/New_York:20260805T100000
DTEND;TZID=America/New_York:20260805T225500
DTSTAMP:20260424T064058
CREATED:20260422T171828Z
LAST-MODIFIED:20260422T171828Z
UID:10075237-1785924000-1785970500@biltmorehotel.com
SUMMARY:Fitness (55 minutes) with Maria B- Wed 11:15am
DESCRIPTION:Cardio-based workout promoting\, building\, and maintaining muscular strength and cardiovascular endurance.
URL:https://biltmorehotel.com/event/fitness-55-minutes-with-maria-b-wed-1115am/2026-08-05/
LOCATION:Fitness Studio
CATEGORIES:Fitness
END:VEVENT
BEGIN:VEVENT
DTSTART;TZID=America/New_York:20260812T100000
DTEND;TZID=America/New_York:20260812T225500
DTSTAMP:20260424T064058
CREATED:20260422T171828Z
LAST-MODIFIED:20260422T171828Z
UID:10075240-1786528800-1786575300@biltmorehotel.com
SUMMARY:Fitness (55 minutes) with Maria B- Wed 11:15am
DESCRIPTION:Cardio-based workout promoting\, building\, and maintaining muscular strength and cardiovascular endurance.
URL:https://biltmorehotel.com/event/fitness-55-minutes-with-maria-b-wed-1115am/2026-08-12/
LOCATION:Fitness Studio
CATEGORIES:Fitness
END:VEVENT
BEGIN:VEVENT
DTSTART;TZID=America/New_York:20260819T100000
DTEND;TZID=America/New_York:20260819T225500
DTSTAMP:20260424T064058
CREATED:20260422T171828Z
LAST-MODIFIED:20260422T171828Z
UID:10075243-1787133600-1787180100@biltmorehotel.com
SUMMARY:Fitness (55 minutes) with Maria B- Wed 11:15am
DESCRIPTION:Cardio-based workout promoting\, building\, and maintaining muscular strength and cardiovascular endurance.
URL:https://biltmorehotel.com/event/fitness-55-minutes-with-maria-b-wed-1115am/2026-08-19/
LOCATION:Fitness Studio
CATEGORIES:Fitness
END:VEVENT
BEGIN:VEVENT
DTSTART;TZID=America/New_York:20260826T100000
DTEND;TZID=America/New_York:20260826T225500
DTSTAMP:20260424T064058
CREATED:20260422T171828Z
LAST-MODIFIED:20260422T171828Z
UID:10075246-1787738400-1787784900@biltmorehotel.com
SUMMARY:Fitness (55 minutes) with Maria B- Wed 11:15am
DESCRIPTION:Cardio-based workout promoting\, building\, and maintaining muscular strength and cardiovascular endurance.
URL:https://biltmorehotel.com/event/fitness-55-minutes-with-maria-b-wed-1115am/2026-08-26/
LOCATION:Fitness Studio
CATEGORIES:Fitness
END:VEVENT
END:VCALENDAR