BEGIN:VCALENDAR
VERSION:2.0
PRODID:-//The Biltmore Hotel - ECPv6.15.20//NONSGML v1.0//EN
CALSCALE:GREGORIAN
METHOD:PUBLISH
X-WR-CALNAME:The Biltmore Hotel
X-ORIGINAL-URL:https://biltmorehotel.com
X-WR-CALDESC:Events for The Biltmore Hotel
REFRESH-INTERVAL;VALUE=DURATION:PT1H
X-Robots-Tag:noindex
X-PUBLISHED-TTL:PT1H
BEGIN:VTIMEZONE
TZID:America/New_York
BEGIN:DAYLIGHT
TZOFFSETFROM:-0500
TZOFFSETTO:-0400
TZNAME:EDT
DTSTART:20250309T070000
END:DAYLIGHT
BEGIN:STANDARD
TZOFFSETFROM:-0400
TZOFFSETTO:-0500
TZNAME:EST
DTSTART:20251102T060000
END:STANDARD
BEGIN:DAYLIGHT
TZOFFSETFROM:-0500
TZOFFSETTO:-0400
TZNAME:EDT
DTSTART:20260308T070000
END:DAYLIGHT
BEGIN:STANDARD
TZOFFSETFROM:-0400
TZOFFSETTO:-0500
TZNAME:EST
DTSTART:20261101T060000
END:STANDARD
BEGIN:DAYLIGHT
TZOFFSETFROM:-0500
TZOFFSETTO:-0400
TZNAME:EDT
DTSTART:20270314T070000
END:DAYLIGHT
BEGIN:STANDARD
TZOFFSETFROM:-0400
TZOFFSETTO:-0500
TZNAME:EST
DTSTART:20271107T060000
END:STANDARD
END:VTIMEZONE
BEGIN:VEVENT
DTSTART;TZID=America/New_York:20260715T130000
DTEND;TZID=America/New_York:20260715T150000
DTSTAMP:20260419T170150
CREATED:20230921T024958Z
LAST-MODIFIED:20260408T195531Z
UID:10074977-1784120400-1784127600@biltmorehotel.com
SUMMARY:Traditional Afternoon Tea - Wednesdays
DESCRIPTION:Enjoy a delightful Traditional Afternoon Tea service featuring sweet and savory treats as well as an assortment of tea.
URL:https://biltmorehotel.com/event/traditional-afternoon-tea-wednesdays/2026-07-15/
LOCATION:Alhambra Lobby – Upper Level
CATEGORIES:Dining
ATTACH;FMTTYPE=image/jpeg:https://biltmorehotel.com/wp-content/uploads/Biltmore-Hotel-Miami-Coral-Gables-Dining-Afternoon-Tea-Lobby.jpg
END:VEVENT
BEGIN:VEVENT
DTSTART;TZID=America/New_York:20260716T130000
DTEND;TZID=America/New_York:20260716T150000
DTSTAMP:20260419T170150
CREATED:20230921T025101Z
LAST-MODIFIED:20260408T194603Z
UID:10074925-1784206800-1784214000@biltmorehotel.com
SUMMARY:Traditional Afternoon Tea - Thursdays
DESCRIPTION:Enjoy a delightful Traditional Afternoon Tea service featuring sweet and savory treats as well as an assortment of tea.
URL:https://biltmorehotel.com/event/traditional-afternoon-tea-thursdays/2026-07-16/
LOCATION:Alhambra Lobby – Upper Level
CATEGORIES:Dining
ATTACH;FMTTYPE=image/jpeg:https://biltmorehotel.com/wp-content/uploads/Biltmore-Hotel-Miami-Coral-Gables-Dining-Afternoon-Tea-Lobby.jpg
END:VEVENT
BEGIN:VEVENT
DTSTART;TZID=America/New_York:20260717T130000
DTEND;TZID=America/New_York:20260717T150000
DTSTAMP:20260419T170150
CREATED:20230921T025148Z
LAST-MODIFIED:20260408T195454Z
UID:10074964-1784293200-1784300400@biltmorehotel.com
SUMMARY:Traditional Afternoon Tea - Fridays
DESCRIPTION:Enjoy a delightful Traditional Afternoon Tea service featuring sweet and savory treats as well as an assortment of tea.
URL:https://biltmorehotel.com/event/traditional-afternoon-tea-fridays/2026-07-17/
LOCATION:Alhambra Lobby – Upper Level
CATEGORIES:Dining
ATTACH;FMTTYPE=image/jpeg:https://biltmorehotel.com/wp-content/uploads/Biltmore-Hotel-Miami-Coral-Gables-Dining-Afternoon-Tea-Lobby.jpg
END:VEVENT
BEGIN:VEVENT
DTSTART;TZID=America/New_York:20260718T130000
DTEND;TZID=America/New_York:20260718T150000
DTSTAMP:20260419T170150
CREATED:20230921T025324Z
LAST-MODIFIED:20260408T195418Z
UID:10074951-1784379600-1784386800@biltmorehotel.com
SUMMARY:Traditional Afternoon Tea - Saturdays
DESCRIPTION:Enjoy a delightful Traditional Afternoon Tea service featuring sweet and savory treats as well as an assortment of tea.
URL:https://biltmorehotel.com/event/traditional-afternoon-tea-saturdays/2026-07-18/
LOCATION:Alhambra Lobby – Upper Level
CATEGORIES:Dining
ATTACH;FMTTYPE=image/jpeg:https://biltmorehotel.com/wp-content/uploads/Biltmore-Hotel-Miami-Coral-Gables-Dining-Afternoon-Tea-Lobby.jpg
END:VEVENT
BEGIN:VEVENT
DTSTART;TZID=America/New_York:20260719T130000
DTEND;TZID=America/New_York:20260719T150000
DTSTAMP:20260419T170150
CREATED:20230921T025438Z
LAST-MODIFIED:20260408T195324Z
UID:10074938-1784466000-1784473200@biltmorehotel.com
SUMMARY:Traditional Afternoon Tea - Sundays
DESCRIPTION:Enjoy a delightful Traditional Afternoon Tea service featuring sweet and savory treats as well as an assortment of tea.
URL:https://biltmorehotel.com/event/traditional-afternoon-tea-sundays/2026-07-19/
LOCATION:Alhambra Lobby – Upper Level
CATEGORIES:Dining
ATTACH;FMTTYPE=image/jpeg:https://biltmorehotel.com/wp-content/uploads/Biltmore-Hotel-Miami-Coral-Gables-Dining-Afternoon-Tea-Lobby.jpg
END:VEVENT
BEGIN:VEVENT
DTSTART;TZID=America/New_York:20260722T130000
DTEND;TZID=America/New_York:20260722T150000
DTSTAMP:20260419T170150
CREATED:20230921T024958Z
LAST-MODIFIED:20260408T195531Z
UID:10074978-1784725200-1784732400@biltmorehotel.com
SUMMARY:Traditional Afternoon Tea - Wednesdays
DESCRIPTION:Enjoy a delightful Traditional Afternoon Tea service featuring sweet and savory treats as well as an assortment of tea.
URL:https://biltmorehotel.com/event/traditional-afternoon-tea-wednesdays/2026-07-22/
LOCATION:Alhambra Lobby – Upper Level
CATEGORIES:Dining
ATTACH;FMTTYPE=image/jpeg:https://biltmorehotel.com/wp-content/uploads/Biltmore-Hotel-Miami-Coral-Gables-Dining-Afternoon-Tea-Lobby.jpg
END:VEVENT
BEGIN:VEVENT
DTSTART;TZID=America/New_York:20260723T130000
DTEND;TZID=America/New_York:20260723T150000
DTSTAMP:20260419T170150
CREATED:20230921T025101Z
LAST-MODIFIED:20260408T194603Z
UID:10074926-1784811600-1784818800@biltmorehotel.com
SUMMARY:Traditional Afternoon Tea - Thursdays
DESCRIPTION:Enjoy a delightful Traditional Afternoon Tea service featuring sweet and savory treats as well as an assortment of tea.
URL:https://biltmorehotel.com/event/traditional-afternoon-tea-thursdays/2026-07-23/
LOCATION:Alhambra Lobby – Upper Level
CATEGORIES:Dining
ATTACH;FMTTYPE=image/jpeg:https://biltmorehotel.com/wp-content/uploads/Biltmore-Hotel-Miami-Coral-Gables-Dining-Afternoon-Tea-Lobby.jpg
END:VEVENT
BEGIN:VEVENT
DTSTART;TZID=America/New_York:20260724T130000
DTEND;TZID=America/New_York:20260724T150000
DTSTAMP:20260419T170150
CREATED:20230921T025148Z
LAST-MODIFIED:20260408T195454Z
UID:10074965-1784898000-1784905200@biltmorehotel.com
SUMMARY:Traditional Afternoon Tea - Fridays
DESCRIPTION:Enjoy a delightful Traditional Afternoon Tea service featuring sweet and savory treats as well as an assortment of tea.
URL:https://biltmorehotel.com/event/traditional-afternoon-tea-fridays/2026-07-24/
LOCATION:Alhambra Lobby – Upper Level
CATEGORIES:Dining
ATTACH;FMTTYPE=image/jpeg:https://biltmorehotel.com/wp-content/uploads/Biltmore-Hotel-Miami-Coral-Gables-Dining-Afternoon-Tea-Lobby.jpg
END:VEVENT
BEGIN:VEVENT
DTSTART;TZID=America/New_York:20260725T130000
DTEND;TZID=America/New_York:20260725T150000
DTSTAMP:20260419T170150
CREATED:20230921T025324Z
LAST-MODIFIED:20260408T195418Z
UID:10074952-1784984400-1784991600@biltmorehotel.com
SUMMARY:Traditional Afternoon Tea - Saturdays
DESCRIPTION:Enjoy a delightful Traditional Afternoon Tea service featuring sweet and savory treats as well as an assortment of tea.
URL:https://biltmorehotel.com/event/traditional-afternoon-tea-saturdays/2026-07-25/
LOCATION:Alhambra Lobby – Upper Level
CATEGORIES:Dining
ATTACH;FMTTYPE=image/jpeg:https://biltmorehotel.com/wp-content/uploads/Biltmore-Hotel-Miami-Coral-Gables-Dining-Afternoon-Tea-Lobby.jpg
END:VEVENT
BEGIN:VEVENT
DTSTART;TZID=America/New_York:20260726T130000
DTEND;TZID=America/New_York:20260726T150000
DTSTAMP:20260419T170150
CREATED:20230921T025438Z
LAST-MODIFIED:20260408T195324Z
UID:10074939-1785070800-1785078000@biltmorehotel.com
SUMMARY:Traditional Afternoon Tea - Sundays
DESCRIPTION:Enjoy a delightful Traditional Afternoon Tea service featuring sweet and savory treats as well as an assortment of tea.
URL:https://biltmorehotel.com/event/traditional-afternoon-tea-sundays/2026-07-26/
LOCATION:Alhambra Lobby – Upper Level
CATEGORIES:Dining
ATTACH;FMTTYPE=image/jpeg:https://biltmorehotel.com/wp-content/uploads/Biltmore-Hotel-Miami-Coral-Gables-Dining-Afternoon-Tea-Lobby.jpg
END:VEVENT
BEGIN:VEVENT
DTSTART;TZID=America/New_York:20260729T130000
DTEND;TZID=America/New_York:20260729T150000
DTSTAMP:20260419T170150
CREATED:20230921T024958Z
LAST-MODIFIED:20260408T195531Z
UID:10074979-1785330000-1785337200@biltmorehotel.com
SUMMARY:Traditional Afternoon Tea - Wednesdays
DESCRIPTION:Enjoy a delightful Traditional Afternoon Tea service featuring sweet and savory treats as well as an assortment of tea.
URL:https://biltmorehotel.com/event/traditional-afternoon-tea-wednesdays/2026-07-29/
LOCATION:Alhambra Lobby – Upper Level
CATEGORIES:Dining
ATTACH;FMTTYPE=image/jpeg:https://biltmorehotel.com/wp-content/uploads/Biltmore-Hotel-Miami-Coral-Gables-Dining-Afternoon-Tea-Lobby.jpg
END:VEVENT
BEGIN:VEVENT
DTSTART;TZID=America/New_York:20260730T130000
DTEND;TZID=America/New_York:20260730T150000
DTSTAMP:20260419T170150
CREATED:20230921T025101Z
LAST-MODIFIED:20260408T194603Z
UID:10074927-1785416400-1785423600@biltmorehotel.com
SUMMARY:Traditional Afternoon Tea - Thursdays
DESCRIPTION:Enjoy a delightful Traditional Afternoon Tea service featuring sweet and savory treats as well as an assortment of tea.
URL:https://biltmorehotel.com/event/traditional-afternoon-tea-thursdays/2026-07-30/
LOCATION:Alhambra Lobby – Upper Level
CATEGORIES:Dining
ATTACH;FMTTYPE=image/jpeg:https://biltmorehotel.com/wp-content/uploads/Biltmore-Hotel-Miami-Coral-Gables-Dining-Afternoon-Tea-Lobby.jpg
END:VEVENT
BEGIN:VEVENT
DTSTART;TZID=America/New_York:20260731T130000
DTEND;TZID=America/New_York:20260731T150000
DTSTAMP:20260419T170150
CREATED:20230921T025148Z
LAST-MODIFIED:20260408T195454Z
UID:10074966-1785502800-1785510000@biltmorehotel.com
SUMMARY:Traditional Afternoon Tea - Fridays
DESCRIPTION:Enjoy a delightful Traditional Afternoon Tea service featuring sweet and savory treats as well as an assortment of tea.
URL:https://biltmorehotel.com/event/traditional-afternoon-tea-fridays/2026-07-31/
LOCATION:Alhambra Lobby – Upper Level
CATEGORIES:Dining
ATTACH;FMTTYPE=image/jpeg:https://biltmorehotel.com/wp-content/uploads/Biltmore-Hotel-Miami-Coral-Gables-Dining-Afternoon-Tea-Lobby.jpg
END:VEVENT
BEGIN:VEVENT
DTSTART;TZID=America/New_York:20260801T130000
DTEND;TZID=America/New_York:20260801T150000
DTSTAMP:20260419T170150
CREATED:20230921T025324Z
LAST-MODIFIED:20260408T195418Z
UID:10074953-1785589200-1785596400@biltmorehotel.com
SUMMARY:Traditional Afternoon Tea - Saturdays
DESCRIPTION:Enjoy a delightful Traditional Afternoon Tea service featuring sweet and savory treats as well as an assortment of tea.
URL:https://biltmorehotel.com/event/traditional-afternoon-tea-saturdays/2026-08-01/
LOCATION:Alhambra Lobby – Upper Level
CATEGORIES:Dining
ATTACH;FMTTYPE=image/jpeg:https://biltmorehotel.com/wp-content/uploads/Biltmore-Hotel-Miami-Coral-Gables-Dining-Afternoon-Tea-Lobby.jpg
END:VEVENT
BEGIN:VEVENT
DTSTART;TZID=America/New_York:20260802T130000
DTEND;TZID=America/New_York:20260802T150000
DTSTAMP:20260419T170150
CREATED:20230921T025438Z
LAST-MODIFIED:20260408T195324Z
UID:10074940-1785675600-1785682800@biltmorehotel.com
SUMMARY:Traditional Afternoon Tea - Sundays
DESCRIPTION:Enjoy a delightful Traditional Afternoon Tea service featuring sweet and savory treats as well as an assortment of tea.
URL:https://biltmorehotel.com/event/traditional-afternoon-tea-sundays/2026-08-02/
LOCATION:Alhambra Lobby – Upper Level
CATEGORIES:Dining
ATTACH;FMTTYPE=image/jpeg:https://biltmorehotel.com/wp-content/uploads/Biltmore-Hotel-Miami-Coral-Gables-Dining-Afternoon-Tea-Lobby.jpg
END:VEVENT
BEGIN:VEVENT
DTSTART;TZID=America/New_York:20260805T130000
DTEND;TZID=America/New_York:20260805T150000
DTSTAMP:20260419T170150
CREATED:20230921T024958Z
LAST-MODIFIED:20260408T195531Z
UID:10074980-1785934800-1785942000@biltmorehotel.com
SUMMARY:Traditional Afternoon Tea - Wednesdays
DESCRIPTION:Enjoy a delightful Traditional Afternoon Tea service featuring sweet and savory treats as well as an assortment of tea.
URL:https://biltmorehotel.com/event/traditional-afternoon-tea-wednesdays/2026-08-05/
LOCATION:Alhambra Lobby – Upper Level
CATEGORIES:Dining
ATTACH;FMTTYPE=image/jpeg:https://biltmorehotel.com/wp-content/uploads/Biltmore-Hotel-Miami-Coral-Gables-Dining-Afternoon-Tea-Lobby.jpg
END:VEVENT
BEGIN:VEVENT
DTSTART;TZID=America/New_York:20260806T130000
DTEND;TZID=America/New_York:20260806T150000
DTSTAMP:20260419T170150
CREATED:20230921T025101Z
LAST-MODIFIED:20260408T194603Z
UID:10074928-1786021200-1786028400@biltmorehotel.com
SUMMARY:Traditional Afternoon Tea - Thursdays
DESCRIPTION:Enjoy a delightful Traditional Afternoon Tea service featuring sweet and savory treats as well as an assortment of tea.
URL:https://biltmorehotel.com/event/traditional-afternoon-tea-thursdays/2026-08-06/
LOCATION:Alhambra Lobby – Upper Level
CATEGORIES:Dining
ATTACH;FMTTYPE=image/jpeg:https://biltmorehotel.com/wp-content/uploads/Biltmore-Hotel-Miami-Coral-Gables-Dining-Afternoon-Tea-Lobby.jpg
END:VEVENT
BEGIN:VEVENT
DTSTART;TZID=America/New_York:20260807T130000
DTEND;TZID=America/New_York:20260807T150000
DTSTAMP:20260419T170150
CREATED:20230921T025148Z
LAST-MODIFIED:20260408T195454Z
UID:10074967-1786107600-1786114800@biltmorehotel.com
SUMMARY:Traditional Afternoon Tea - Fridays
DESCRIPTION:Enjoy a delightful Traditional Afternoon Tea service featuring sweet and savory treats as well as an assortment of tea.
URL:https://biltmorehotel.com/event/traditional-afternoon-tea-fridays/2026-08-07/
LOCATION:Alhambra Lobby – Upper Level
CATEGORIES:Dining
ATTACH;FMTTYPE=image/jpeg:https://biltmorehotel.com/wp-content/uploads/Biltmore-Hotel-Miami-Coral-Gables-Dining-Afternoon-Tea-Lobby.jpg
END:VEVENT
BEGIN:VEVENT
DTSTART;TZID=America/New_York:20260808T130000
DTEND;TZID=America/New_York:20260808T150000
DTSTAMP:20260419T170151
CREATED:20230921T025324Z
LAST-MODIFIED:20260408T195418Z
UID:10074954-1786194000-1786201200@biltmorehotel.com
SUMMARY:Traditional Afternoon Tea - Saturdays
DESCRIPTION:Enjoy a delightful Traditional Afternoon Tea service featuring sweet and savory treats as well as an assortment of tea.
URL:https://biltmorehotel.com/event/traditional-afternoon-tea-saturdays/2026-08-08/
LOCATION:Alhambra Lobby – Upper Level
CATEGORIES:Dining
ATTACH;FMTTYPE=image/jpeg:https://biltmorehotel.com/wp-content/uploads/Biltmore-Hotel-Miami-Coral-Gables-Dining-Afternoon-Tea-Lobby.jpg
END:VEVENT
BEGIN:VEVENT
DTSTART;TZID=America/New_York:20260809T130000
DTEND;TZID=America/New_York:20260809T150000
DTSTAMP:20260419T170151
CREATED:20230921T025438Z
LAST-MODIFIED:20260408T195324Z
UID:10074941-1786280400-1786287600@biltmorehotel.com
SUMMARY:Traditional Afternoon Tea - Sundays
DESCRIPTION:Enjoy a delightful Traditional Afternoon Tea service featuring sweet and savory treats as well as an assortment of tea.
URL:https://biltmorehotel.com/event/traditional-afternoon-tea-sundays/2026-08-09/
LOCATION:Alhambra Lobby – Upper Level
CATEGORIES:Dining
ATTACH;FMTTYPE=image/jpeg:https://biltmorehotel.com/wp-content/uploads/Biltmore-Hotel-Miami-Coral-Gables-Dining-Afternoon-Tea-Lobby.jpg
END:VEVENT
BEGIN:VEVENT
DTSTART;TZID=America/New_York:20260812T130000
DTEND;TZID=America/New_York:20260812T150000
DTSTAMP:20260419T170151
CREATED:20230921T024958Z
LAST-MODIFIED:20260408T195531Z
UID:10074981-1786539600-1786546800@biltmorehotel.com
SUMMARY:Traditional Afternoon Tea - Wednesdays
DESCRIPTION:Enjoy a delightful Traditional Afternoon Tea service featuring sweet and savory treats as well as an assortment of tea.
URL:https://biltmorehotel.com/event/traditional-afternoon-tea-wednesdays/2026-08-12/
LOCATION:Alhambra Lobby – Upper Level
CATEGORIES:Dining
ATTACH;FMTTYPE=image/jpeg:https://biltmorehotel.com/wp-content/uploads/Biltmore-Hotel-Miami-Coral-Gables-Dining-Afternoon-Tea-Lobby.jpg
END:VEVENT
BEGIN:VEVENT
DTSTART;TZID=America/New_York:20260813T130000
DTEND;TZID=America/New_York:20260813T150000
DTSTAMP:20260419T170151
CREATED:20230921T025101Z
LAST-MODIFIED:20260408T194603Z
UID:10074929-1786626000-1786633200@biltmorehotel.com
SUMMARY:Traditional Afternoon Tea - Thursdays
DESCRIPTION:Enjoy a delightful Traditional Afternoon Tea service featuring sweet and savory treats as well as an assortment of tea.
URL:https://biltmorehotel.com/event/traditional-afternoon-tea-thursdays/2026-08-13/
LOCATION:Alhambra Lobby – Upper Level
CATEGORIES:Dining
ATTACH;FMTTYPE=image/jpeg:https://biltmorehotel.com/wp-content/uploads/Biltmore-Hotel-Miami-Coral-Gables-Dining-Afternoon-Tea-Lobby.jpg
END:VEVENT
BEGIN:VEVENT
DTSTART;TZID=America/New_York:20260814T130000
DTEND;TZID=America/New_York:20260814T150000
DTSTAMP:20260419T170151
CREATED:20230921T025148Z
LAST-MODIFIED:20260408T195454Z
UID:10074968-1786712400-1786719600@biltmorehotel.com
SUMMARY:Traditional Afternoon Tea - Fridays
DESCRIPTION:Enjoy a delightful Traditional Afternoon Tea service featuring sweet and savory treats as well as an assortment of tea.
URL:https://biltmorehotel.com/event/traditional-afternoon-tea-fridays/2026-08-14/
LOCATION:Alhambra Lobby – Upper Level
CATEGORIES:Dining
ATTACH;FMTTYPE=image/jpeg:https://biltmorehotel.com/wp-content/uploads/Biltmore-Hotel-Miami-Coral-Gables-Dining-Afternoon-Tea-Lobby.jpg
END:VEVENT
BEGIN:VEVENT
DTSTART;TZID=America/New_York:20260815T130000
DTEND;TZID=America/New_York:20260815T150000
DTSTAMP:20260419T170151
CREATED:20230921T025324Z
LAST-MODIFIED:20260408T195418Z
UID:10074955-1786798800-1786806000@biltmorehotel.com
SUMMARY:Traditional Afternoon Tea - Saturdays
DESCRIPTION:Enjoy a delightful Traditional Afternoon Tea service featuring sweet and savory treats as well as an assortment of tea.
URL:https://biltmorehotel.com/event/traditional-afternoon-tea-saturdays/2026-08-15/
LOCATION:Alhambra Lobby – Upper Level
CATEGORIES:Dining
ATTACH;FMTTYPE=image/jpeg:https://biltmorehotel.com/wp-content/uploads/Biltmore-Hotel-Miami-Coral-Gables-Dining-Afternoon-Tea-Lobby.jpg
END:VEVENT
BEGIN:VEVENT
DTSTART;TZID=America/New_York:20260816T130000
DTEND;TZID=America/New_York:20260816T150000
DTSTAMP:20260419T170151
CREATED:20230921T025438Z
LAST-MODIFIED:20260408T195324Z
UID:10074942-1786885200-1786892400@biltmorehotel.com
SUMMARY:Traditional Afternoon Tea - Sundays
DESCRIPTION:Enjoy a delightful Traditional Afternoon Tea service featuring sweet and savory treats as well as an assortment of tea.
URL:https://biltmorehotel.com/event/traditional-afternoon-tea-sundays/2026-08-16/
LOCATION:Alhambra Lobby – Upper Level
CATEGORIES:Dining
ATTACH;FMTTYPE=image/jpeg:https://biltmorehotel.com/wp-content/uploads/Biltmore-Hotel-Miami-Coral-Gables-Dining-Afternoon-Tea-Lobby.jpg
END:VEVENT
BEGIN:VEVENT
DTSTART;TZID=America/New_York:20260819T130000
DTEND;TZID=America/New_York:20260819T150000
DTSTAMP:20260419T170151
CREATED:20230921T024958Z
LAST-MODIFIED:20260408T195531Z
UID:10074982-1787144400-1787151600@biltmorehotel.com
SUMMARY:Traditional Afternoon Tea - Wednesdays
DESCRIPTION:Enjoy a delightful Traditional Afternoon Tea service featuring sweet and savory treats as well as an assortment of tea.
URL:https://biltmorehotel.com/event/traditional-afternoon-tea-wednesdays/2026-08-19/
LOCATION:Alhambra Lobby – Upper Level
CATEGORIES:Dining
ATTACH;FMTTYPE=image/jpeg:https://biltmorehotel.com/wp-content/uploads/Biltmore-Hotel-Miami-Coral-Gables-Dining-Afternoon-Tea-Lobby.jpg
END:VEVENT
BEGIN:VEVENT
DTSTART;TZID=America/New_York:20260820T130000
DTEND;TZID=America/New_York:20260820T150000
DTSTAMP:20260419T170151
CREATED:20230921T025101Z
LAST-MODIFIED:20260408T194603Z
UID:10074930-1787230800-1787238000@biltmorehotel.com
SUMMARY:Traditional Afternoon Tea - Thursdays
DESCRIPTION:Enjoy a delightful Traditional Afternoon Tea service featuring sweet and savory treats as well as an assortment of tea.
URL:https://biltmorehotel.com/event/traditional-afternoon-tea-thursdays/2026-08-20/
LOCATION:Alhambra Lobby – Upper Level
CATEGORIES:Dining
ATTACH;FMTTYPE=image/jpeg:https://biltmorehotel.com/wp-content/uploads/Biltmore-Hotel-Miami-Coral-Gables-Dining-Afternoon-Tea-Lobby.jpg
END:VEVENT
BEGIN:VEVENT
DTSTART;TZID=America/New_York:20260821T130000
DTEND;TZID=America/New_York:20260821T150000
DTSTAMP:20260419T170151
CREATED:20230921T025148Z
LAST-MODIFIED:20260408T195454Z
UID:10074969-1787317200-1787324400@biltmorehotel.com
SUMMARY:Traditional Afternoon Tea - Fridays
DESCRIPTION:Enjoy a delightful Traditional Afternoon Tea service featuring sweet and savory treats as well as an assortment of tea.
URL:https://biltmorehotel.com/event/traditional-afternoon-tea-fridays/2026-08-21/
LOCATION:Alhambra Lobby – Upper Level
CATEGORIES:Dining
ATTACH;FMTTYPE=image/jpeg:https://biltmorehotel.com/wp-content/uploads/Biltmore-Hotel-Miami-Coral-Gables-Dining-Afternoon-Tea-Lobby.jpg
END:VEVENT
BEGIN:VEVENT
DTSTART;TZID=America/New_York:20260822T130000
DTEND;TZID=America/New_York:20260822T150000
DTSTAMP:20260419T170151
CREATED:20230921T025324Z
LAST-MODIFIED:20260408T195418Z
UID:10074956-1787403600-1787410800@biltmorehotel.com
SUMMARY:Traditional Afternoon Tea - Saturdays
DESCRIPTION:Enjoy a delightful Traditional Afternoon Tea service featuring sweet and savory treats as well as an assortment of tea.
URL:https://biltmorehotel.com/event/traditional-afternoon-tea-saturdays/2026-08-22/
LOCATION:Alhambra Lobby – Upper Level
CATEGORIES:Dining
ATTACH;FMTTYPE=image/jpeg:https://biltmorehotel.com/wp-content/uploads/Biltmore-Hotel-Miami-Coral-Gables-Dining-Afternoon-Tea-Lobby.jpg
END:VEVENT
BEGIN:VEVENT
DTSTART;TZID=America/New_York:20260823T130000
DTEND;TZID=America/New_York:20260823T150000
DTSTAMP:20260419T170151
CREATED:20230921T025438Z
LAST-MODIFIED:20260408T195324Z
UID:10074943-1787490000-1787497200@biltmorehotel.com
SUMMARY:Traditional Afternoon Tea - Sundays
DESCRIPTION:Enjoy a delightful Traditional Afternoon Tea service featuring sweet and savory treats as well as an assortment of tea.
URL:https://biltmorehotel.com/event/traditional-afternoon-tea-sundays/2026-08-23/
LOCATION:Alhambra Lobby – Upper Level
CATEGORIES:Dining
ATTACH;FMTTYPE=image/jpeg:https://biltmorehotel.com/wp-content/uploads/Biltmore-Hotel-Miami-Coral-Gables-Dining-Afternoon-Tea-Lobby.jpg
END:VEVENT
END:VCALENDAR