BEGIN:VCALENDAR
VERSION:2.0
PRODID:-//The Biltmore Hotel - ECPv6.15.20//NONSGML v1.0//EN
CALSCALE:GREGORIAN
METHOD:PUBLISH
X-WR-CALNAME:The Biltmore Hotel
X-ORIGINAL-URL:https://biltmorehotel.com
X-WR-CALDESC:Events for The Biltmore Hotel
REFRESH-INTERVAL;VALUE=DURATION:PT1H
X-Robots-Tag:noindex
X-PUBLISHED-TTL:PT1H
BEGIN:VTIMEZONE
TZID:America/New_York
BEGIN:DAYLIGHT
TZOFFSETFROM:-0500
TZOFFSETTO:-0400
TZNAME:EDT
DTSTART:20240310T070000
END:DAYLIGHT
BEGIN:STANDARD
TZOFFSETFROM:-0400
TZOFFSETTO:-0500
TZNAME:EST
DTSTART:20241103T060000
END:STANDARD
BEGIN:DAYLIGHT
TZOFFSETFROM:-0500
TZOFFSETTO:-0400
TZNAME:EDT
DTSTART:20250309T070000
END:DAYLIGHT
BEGIN:STANDARD
TZOFFSETFROM:-0400
TZOFFSETTO:-0500
TZNAME:EST
DTSTART:20251102T060000
END:STANDARD
BEGIN:DAYLIGHT
TZOFFSETFROM:-0500
TZOFFSETTO:-0400
TZNAME:EDT
DTSTART:20260308T070000
END:DAYLIGHT
BEGIN:STANDARD
TZOFFSETFROM:-0400
TZOFFSETTO:-0500
TZNAME:EST
DTSTART:20261101T060000
END:STANDARD
BEGIN:DAYLIGHT
TZOFFSETFROM:-0500
TZOFFSETTO:-0400
TZNAME:EDT
DTSTART:20270314T070000
END:DAYLIGHT
BEGIN:STANDARD
TZOFFSETFROM:-0400
TZOFFSETTO:-0500
TZNAME:EST
DTSTART:20271107T060000
END:STANDARD
END:VTIMEZONE
BEGIN:VEVENT
DTSTART;TZID=America/New_York:20260418T083000
DTEND;TZID=America/New_York:20260418T093000
DTSTAMP:20260420T101056
CREATED:20240104T214054Z
LAST-MODIFIED:20260407T203642Z
UID:10072445-1776501000-1776504600@biltmorehotel.com
SUMMARY:Fitwalk (60 minutes) with Sally - Saturday 8:30am
DESCRIPTION:Unique\, outdoor fitness class walking thru our exclusive golf course boosting energy and improving balance… all in the fresh air of nature
URL:https://biltmorehotel.com/event/fitwalk-60min-with-sally-friday-8am/2026-04-18/
LOCATION:Conference Center of the Americas Ballroom\, Florida\, United States
CATEGORIES:Fitness
END:VEVENT
BEGIN:VEVENT
DTSTART;TZID=America/New_York:20260411T083000
DTEND;TZID=America/New_York:20260411T093000
DTSTAMP:20260420T101056
CREATED:20240104T214054Z
LAST-MODIFIED:20260407T203642Z
UID:10072444-1775896200-1775899800@biltmorehotel.com
SUMMARY:Fitwalk (60 minutes) with Sally - Saturday 8:30am
DESCRIPTION:Unique\, outdoor fitness class walking thru our exclusive golf course boosting energy and improving balance… all in the fresh air of nature
URL:https://biltmorehotel.com/event/fitwalk-60min-with-sally-friday-8am/2026-04-11/
LOCATION:Conference Center of the Americas Ballroom\, Florida\, United States
CATEGORIES:Fitness
END:VEVENT
BEGIN:VEVENT
DTSTART;TZID=America/New_York:20260404T083000
DTEND;TZID=America/New_York:20260404T093000
DTSTAMP:20260420T101056
CREATED:20240104T214054Z
LAST-MODIFIED:20260407T203642Z
UID:10072443-1775291400-1775295000@biltmorehotel.com
SUMMARY:Fitwalk (60 minutes) with Sally - Saturday 8:30am
DESCRIPTION:Unique\, outdoor fitness class walking thru our exclusive golf course boosting energy and improving balance… all in the fresh air of nature
URL:https://biltmorehotel.com/event/fitwalk-60min-with-sally-friday-8am/2026-04-04/
LOCATION:Conference Center of the Americas Ballroom\, Florida\, United States
CATEGORIES:Fitness
END:VEVENT
BEGIN:VEVENT
DTSTART;TZID=America/New_York:20260328T083000
DTEND;TZID=America/New_York:20260328T093000
DTSTAMP:20260420T101056
CREATED:20240104T214054Z
LAST-MODIFIED:20260407T203642Z
UID:10072442-1774686600-1774690200@biltmorehotel.com
SUMMARY:Fitwalk (60 minutes) with Sally - Saturday 8:30am
DESCRIPTION:Unique\, outdoor fitness class walking thru our exclusive golf course boosting energy and improving balance… all in the fresh air of nature
URL:https://biltmorehotel.com/event/fitwalk-60min-with-sally-friday-8am/2026-03-28/
LOCATION:Conference Center of the Americas Ballroom\, Florida\, United States
CATEGORIES:Fitness
END:VEVENT
BEGIN:VEVENT
DTSTART;TZID=America/New_York:20260321T083000
DTEND;TZID=America/New_York:20260321T093000
DTSTAMP:20260420T101056
CREATED:20240104T214054Z
LAST-MODIFIED:20260407T203642Z
UID:10072441-1774081800-1774085400@biltmorehotel.com
SUMMARY:Fitwalk (60 minutes) with Sally - Saturday 8:30am
DESCRIPTION:Unique\, outdoor fitness class walking thru our exclusive golf course boosting energy and improving balance… all in the fresh air of nature
URL:https://biltmorehotel.com/event/fitwalk-60min-with-sally-friday-8am/2026-03-21/
LOCATION:Conference Center of the Americas Ballroom\, Florida\, United States
CATEGORIES:Fitness
END:VEVENT
BEGIN:VEVENT
DTSTART;TZID=America/New_York:20260314T083000
DTEND;TZID=America/New_York:20260314T093000
DTSTAMP:20260420T101056
CREATED:20240104T214054Z
LAST-MODIFIED:20260407T203642Z
UID:10072440-1773477000-1773480600@biltmorehotel.com
SUMMARY:Fitwalk (60 minutes) with Sally - Saturday 8:30am
DESCRIPTION:Unique\, outdoor fitness class walking thru our exclusive golf course boosting energy and improving balance… all in the fresh air of nature
URL:https://biltmorehotel.com/event/fitwalk-60min-with-sally-friday-8am/2026-03-14/
LOCATION:Conference Center of the Americas Ballroom\, Florida\, United States
CATEGORIES:Fitness
END:VEVENT
BEGIN:VEVENT
DTSTART;TZID=America/New_York:20260307T083000
DTEND;TZID=America/New_York:20260307T093000
DTSTAMP:20260420T101056
CREATED:20240104T214054Z
LAST-MODIFIED:20260407T203642Z
UID:10072439-1772872200-1772875800@biltmorehotel.com
SUMMARY:Fitwalk (60 minutes) with Sally - Saturday 8:30am
DESCRIPTION:Unique\, outdoor fitness class walking thru our exclusive golf course boosting energy and improving balance… all in the fresh air of nature
URL:https://biltmorehotel.com/event/fitwalk-60min-with-sally-friday-8am/2026-03-07/
LOCATION:Conference Center of the Americas Ballroom\, Florida\, United States
CATEGORIES:Fitness
END:VEVENT
BEGIN:VEVENT
DTSTART;TZID=America/New_York:20260228T083000
DTEND;TZID=America/New_York:20260228T093000
DTSTAMP:20260420T101056
CREATED:20240104T214054Z
LAST-MODIFIED:20260407T203642Z
UID:10072438-1772267400-1772271000@biltmorehotel.com
SUMMARY:Fitwalk (60 minutes) with Sally - Saturday 8:30am
DESCRIPTION:Unique\, outdoor fitness class walking thru our exclusive golf course boosting energy and improving balance… all in the fresh air of nature
URL:https://biltmorehotel.com/event/fitwalk-60min-with-sally-friday-8am/2026-02-28/
LOCATION:Conference Center of the Americas Ballroom\, Florida\, United States
CATEGORIES:Fitness
END:VEVENT
BEGIN:VEVENT
DTSTART;TZID=America/New_York:20260221T083000
DTEND;TZID=America/New_York:20260221T093000
DTSTAMP:20260420T101056
CREATED:20240104T214054Z
LAST-MODIFIED:20260407T203642Z
UID:10072437-1771662600-1771666200@biltmorehotel.com
SUMMARY:Fitwalk (60 minutes) with Sally - Saturday 8:30am
DESCRIPTION:Unique\, outdoor fitness class walking thru our exclusive golf course boosting energy and improving balance… all in the fresh air of nature
URL:https://biltmorehotel.com/event/fitwalk-60min-with-sally-friday-8am/2026-02-21/
LOCATION:Conference Center of the Americas Ballroom\, Florida\, United States
CATEGORIES:Fitness
END:VEVENT
BEGIN:VEVENT
DTSTART;TZID=America/New_York:20260214T083000
DTEND;TZID=America/New_York:20260214T093000
DTSTAMP:20260420T101056
CREATED:20240104T214054Z
LAST-MODIFIED:20260407T203642Z
UID:10072436-1771057800-1771061400@biltmorehotel.com
SUMMARY:Fitwalk (60 minutes) with Sally - Saturday 8:30am
DESCRIPTION:Unique\, outdoor fitness class walking thru our exclusive golf course boosting energy and improving balance… all in the fresh air of nature
URL:https://biltmorehotel.com/event/fitwalk-60min-with-sally-friday-8am/2026-02-14/
LOCATION:Conference Center of the Americas Ballroom\, Florida\, United States
CATEGORIES:Fitness
END:VEVENT
BEGIN:VEVENT
DTSTART;TZID=America/New_York:20260207T083000
DTEND;TZID=America/New_York:20260207T093000
DTSTAMP:20260420T101056
CREATED:20240104T214054Z
LAST-MODIFIED:20260407T203642Z
UID:10072435-1770453000-1770456600@biltmorehotel.com
SUMMARY:Fitwalk (60 minutes) with Sally - Saturday 8:30am
DESCRIPTION:Unique\, outdoor fitness class walking thru our exclusive golf course boosting energy and improving balance… all in the fresh air of nature
URL:https://biltmorehotel.com/event/fitwalk-60min-with-sally-friday-8am/2026-02-07/
LOCATION:Conference Center of the Americas Ballroom\, Florida\, United States
CATEGORIES:Fitness
END:VEVENT
BEGIN:VEVENT
DTSTART;TZID=America/New_York:20260131T083000
DTEND;TZID=America/New_York:20260131T093000
DTSTAMP:20260420T101056
CREATED:20240104T214054Z
LAST-MODIFIED:20260407T203642Z
UID:10070151-1769848200-1769851800@biltmorehotel.com
SUMMARY:Fitwalk (60 minutes) with Sally - Saturday 8:30am
DESCRIPTION:Unique\, outdoor fitness class walking thru our exclusive golf course boosting energy and improving balance… all in the fresh air of nature
URL:https://biltmorehotel.com/event/fitwalk-60min-with-sally-friday-8am/2026-01-31/
LOCATION:Conference Center of the Americas Ballroom\, Florida\, United States
CATEGORIES:Fitness
END:VEVENT
BEGIN:VEVENT
DTSTART;TZID=America/New_York:20260124T083000
DTEND;TZID=America/New_York:20260124T093000
DTSTAMP:20260420T101056
CREATED:20240104T214054Z
LAST-MODIFIED:20260407T203642Z
UID:10070150-1769243400-1769247000@biltmorehotel.com
SUMMARY:Fitwalk (60 minutes) with Sally - Saturday 8:30am
DESCRIPTION:Unique\, outdoor fitness class walking thru our exclusive golf course boosting energy and improving balance… all in the fresh air of nature
URL:https://biltmorehotel.com/event/fitwalk-60min-with-sally-friday-8am/2026-01-24/
LOCATION:Conference Center of the Americas Ballroom\, Florida\, United States
CATEGORIES:Fitness
END:VEVENT
BEGIN:VEVENT
DTSTART;TZID=America/New_York:20260117T083000
DTEND;TZID=America/New_York:20260117T093000
DTSTAMP:20260420T101056
CREATED:20240104T214054Z
LAST-MODIFIED:20260407T203642Z
UID:10070149-1768638600-1768642200@biltmorehotel.com
SUMMARY:Fitwalk (60 minutes) with Sally - Saturday 8:30am
DESCRIPTION:Unique\, outdoor fitness class walking thru our exclusive golf course boosting energy and improving balance… all in the fresh air of nature
URL:https://biltmorehotel.com/event/fitwalk-60min-with-sally-friday-8am/2026-01-17/
LOCATION:Conference Center of the Americas Ballroom\, Florida\, United States
CATEGORIES:Fitness
END:VEVENT
BEGIN:VEVENT
DTSTART;TZID=America/New_York:20260110T083000
DTEND;TZID=America/New_York:20260110T093000
DTSTAMP:20260420T101056
CREATED:20240104T214054Z
LAST-MODIFIED:20260407T203642Z
UID:10070148-1768033800-1768037400@biltmorehotel.com
SUMMARY:Fitwalk (60 minutes) with Sally - Saturday 8:30am
DESCRIPTION:Unique\, outdoor fitness class walking thru our exclusive golf course boosting energy and improving balance… all in the fresh air of nature
URL:https://biltmorehotel.com/event/fitwalk-60min-with-sally-friday-8am/2026-01-10/
LOCATION:Conference Center of the Americas Ballroom\, Florida\, United States
CATEGORIES:Fitness
END:VEVENT
BEGIN:VEVENT
DTSTART;TZID=America/New_York:20260103T083000
DTEND;TZID=America/New_York:20260103T093000
DTSTAMP:20260420T101056
CREATED:20240104T214054Z
LAST-MODIFIED:20260407T203642Z
UID:10070147-1767429000-1767432600@biltmorehotel.com
SUMMARY:Fitwalk (60 minutes) with Sally - Saturday 8:30am
DESCRIPTION:Unique\, outdoor fitness class walking thru our exclusive golf course boosting energy and improving balance… all in the fresh air of nature
URL:https://biltmorehotel.com/event/fitwalk-60min-with-sally-friday-8am/2026-01-03/
LOCATION:Conference Center of the Americas Ballroom\, Florida\, United States
CATEGORIES:Fitness
END:VEVENT
BEGIN:VEVENT
DTSTART;TZID=America/New_York:20251227T083000
DTEND;TZID=America/New_York:20251227T093000
DTSTAMP:20260420T101057
CREATED:20240104T214054Z
LAST-MODIFIED:20260407T203642Z
UID:10070146-1766824200-1766827800@biltmorehotel.com
SUMMARY:Fitwalk (60 minutes) with Sally - Saturday 8:30am
DESCRIPTION:Unique\, outdoor fitness class walking thru our exclusive golf course boosting energy and improving balance… all in the fresh air of nature
URL:https://biltmorehotel.com/event/fitwalk-60min-with-sally-friday-8am/2025-12-27/
LOCATION:Conference Center of the Americas Ballroom\, Florida\, United States
CATEGORIES:Fitness
END:VEVENT
BEGIN:VEVENT
DTSTART;TZID=America/New_York:20251220T083000
DTEND;TZID=America/New_York:20251220T093000
DTSTAMP:20260420T101057
CREATED:20240104T214054Z
LAST-MODIFIED:20260407T203642Z
UID:10070145-1766219400-1766223000@biltmorehotel.com
SUMMARY:Fitwalk (60 minutes) with Sally - Saturday 8:30am
DESCRIPTION:Unique\, outdoor fitness class walking thru our exclusive golf course boosting energy and improving balance… all in the fresh air of nature
URL:https://biltmorehotel.com/event/fitwalk-60min-with-sally-friday-8am/2025-12-20/
LOCATION:Conference Center of the Americas Ballroom\, Florida\, United States
CATEGORIES:Fitness
END:VEVENT
BEGIN:VEVENT
DTSTART;TZID=America/New_York:20251213T083000
DTEND;TZID=America/New_York:20251213T093000
DTSTAMP:20260420T101057
CREATED:20240104T214054Z
LAST-MODIFIED:20260407T203642Z
UID:10070144-1765614600-1765618200@biltmorehotel.com
SUMMARY:Fitwalk (60 minutes) with Sally - Saturday 8:30am
DESCRIPTION:Unique\, outdoor fitness class walking thru our exclusive golf course boosting energy and improving balance… all in the fresh air of nature
URL:https://biltmorehotel.com/event/fitwalk-60min-with-sally-friday-8am/2025-12-13/
LOCATION:Conference Center of the Americas Ballroom\, Florida\, United States
CATEGORIES:Fitness
END:VEVENT
BEGIN:VEVENT
DTSTART;TZID=America/New_York:20251206T083000
DTEND;TZID=America/New_York:20251206T093000
DTSTAMP:20260420T101057
CREATED:20240104T214054Z
LAST-MODIFIED:20260407T203642Z
UID:10070143-1765009800-1765013400@biltmorehotel.com
SUMMARY:Fitwalk (60 minutes) with Sally - Saturday 8:30am
DESCRIPTION:Unique\, outdoor fitness class walking thru our exclusive golf course boosting energy and improving balance… all in the fresh air of nature
URL:https://biltmorehotel.com/event/fitwalk-60min-with-sally-friday-8am/2025-12-06/
LOCATION:Conference Center of the Americas Ballroom\, Florida\, United States
CATEGORIES:Fitness
END:VEVENT
BEGIN:VEVENT
DTSTART;TZID=America/New_York:20251129T083000
DTEND;TZID=America/New_York:20251129T093000
DTSTAMP:20260420T101057
CREATED:20240104T214054Z
LAST-MODIFIED:20260407T203642Z
UID:10070142-1764405000-1764408600@biltmorehotel.com
SUMMARY:Fitwalk (60 minutes) with Sally - Saturday 8:30am
DESCRIPTION:Unique\, outdoor fitness class walking thru our exclusive golf course boosting energy and improving balance… all in the fresh air of nature
URL:https://biltmorehotel.com/event/fitwalk-60min-with-sally-friday-8am/2025-11-29/
LOCATION:Conference Center of the Americas Ballroom\, Florida\, United States
CATEGORIES:Fitness
END:VEVENT
BEGIN:VEVENT
DTSTART;TZID=America/New_York:20251122T083000
DTEND;TZID=America/New_York:20251122T093000
DTSTAMP:20260420T101057
CREATED:20240104T214054Z
LAST-MODIFIED:20260407T203642Z
UID:10070141-1763800200-1763803800@biltmorehotel.com
SUMMARY:Fitwalk (60 minutes) with Sally - Saturday 8:30am
DESCRIPTION:Unique\, outdoor fitness class walking thru our exclusive golf course boosting energy and improving balance… all in the fresh air of nature
URL:https://biltmorehotel.com/event/fitwalk-60min-with-sally-friday-8am/2025-11-22/
LOCATION:Conference Center of the Americas Ballroom\, Florida\, United States
CATEGORIES:Fitness
END:VEVENT
BEGIN:VEVENT
DTSTART;TZID=America/New_York:20251115T083000
DTEND;TZID=America/New_York:20251115T093000
DTSTAMP:20260420T101057
CREATED:20240104T214054Z
LAST-MODIFIED:20260407T203642Z
UID:10070140-1763195400-1763199000@biltmorehotel.com
SUMMARY:Fitwalk (60 minutes) with Sally - Saturday 8:30am
DESCRIPTION:Unique\, outdoor fitness class walking thru our exclusive golf course boosting energy and improving balance… all in the fresh air of nature
URL:https://biltmorehotel.com/event/fitwalk-60min-with-sally-friday-8am/2025-11-15/
LOCATION:Conference Center of the Americas Ballroom\, Florida\, United States
CATEGORIES:Fitness
END:VEVENT
BEGIN:VEVENT
DTSTART;TZID=America/New_York:20251108T083000
DTEND;TZID=America/New_York:20251108T093000
DTSTAMP:20260420T101057
CREATED:20240104T214054Z
LAST-MODIFIED:20260407T203642Z
UID:10070139-1762590600-1762594200@biltmorehotel.com
SUMMARY:Fitwalk (60 minutes) with Sally - Saturday 8:30am
DESCRIPTION:Unique\, outdoor fitness class walking thru our exclusive golf course boosting energy and improving balance… all in the fresh air of nature
URL:https://biltmorehotel.com/event/fitwalk-60min-with-sally-friday-8am/2025-11-08/
LOCATION:Conference Center of the Americas Ballroom\, Florida\, United States
CATEGORIES:Fitness
END:VEVENT
BEGIN:VEVENT
DTSTART;TZID=America/New_York:20251101T083000
DTEND;TZID=America/New_York:20251101T093000
DTSTAMP:20260420T101057
CREATED:20240104T214054Z
LAST-MODIFIED:20260407T203642Z
UID:10070138-1761985800-1761989400@biltmorehotel.com
SUMMARY:Fitwalk (60 minutes) with Sally - Saturday 8:30am
DESCRIPTION:Unique\, outdoor fitness class walking thru our exclusive golf course boosting energy and improving balance… all in the fresh air of nature
URL:https://biltmorehotel.com/event/fitwalk-60min-with-sally-friday-8am/2025-11-01/
LOCATION:Conference Center of the Americas Ballroom\, Florida\, United States
CATEGORIES:Fitness
END:VEVENT
BEGIN:VEVENT
DTSTART;TZID=America/New_York:20251025T083000
DTEND;TZID=America/New_York:20251025T093000
DTSTAMP:20260420T101057
CREATED:20240104T214054Z
LAST-MODIFIED:20260407T203642Z
UID:10070137-1761381000-1761384600@biltmorehotel.com
SUMMARY:Fitwalk (60 minutes) with Sally - Saturday 8:30am
DESCRIPTION:Unique\, outdoor fitness class walking thru our exclusive golf course boosting energy and improving balance… all in the fresh air of nature
URL:https://biltmorehotel.com/event/fitwalk-60min-with-sally-friday-8am/2025-10-25/
LOCATION:Conference Center of the Americas Ballroom\, Florida\, United States
CATEGORIES:Fitness
END:VEVENT
BEGIN:VEVENT
DTSTART;TZID=America/New_York:20251018T083000
DTEND;TZID=America/New_York:20251018T093000
DTSTAMP:20260420T101057
CREATED:20240104T214054Z
LAST-MODIFIED:20260407T203642Z
UID:10070136-1760776200-1760779800@biltmorehotel.com
SUMMARY:Fitwalk (60 minutes) with Sally - Saturday 8:30am
DESCRIPTION:Unique\, outdoor fitness class walking thru our exclusive golf course boosting energy and improving balance… all in the fresh air of nature
URL:https://biltmorehotel.com/event/fitwalk-60min-with-sally-friday-8am/2025-10-18/
LOCATION:Conference Center of the Americas Ballroom\, Florida\, United States
CATEGORIES:Fitness
END:VEVENT
BEGIN:VEVENT
DTSTART;TZID=America/New_York:20251011T083000
DTEND;TZID=America/New_York:20251011T093000
DTSTAMP:20260420T101057
CREATED:20240104T214054Z
LAST-MODIFIED:20260407T203642Z
UID:10070135-1760171400-1760175000@biltmorehotel.com
SUMMARY:Fitwalk (60 minutes) with Sally - Saturday 8:30am
DESCRIPTION:Unique\, outdoor fitness class walking thru our exclusive golf course boosting energy and improving balance… all in the fresh air of nature
URL:https://biltmorehotel.com/event/fitwalk-60min-with-sally-friday-8am/2025-10-11/
LOCATION:Conference Center of the Americas Ballroom\, Florida\, United States
CATEGORIES:Fitness
END:VEVENT
BEGIN:VEVENT
DTSTART;TZID=America/New_York:20251004T083000
DTEND;TZID=America/New_York:20251004T093000
DTSTAMP:20260420T101057
CREATED:20240104T214054Z
LAST-MODIFIED:20260407T203642Z
UID:10070134-1759566600-1759570200@biltmorehotel.com
SUMMARY:Fitwalk (60 minutes) with Sally - Saturday 8:30am
DESCRIPTION:Unique\, outdoor fitness class walking thru our exclusive golf course boosting energy and improving balance… all in the fresh air of nature
URL:https://biltmorehotel.com/event/fitwalk-60min-with-sally-friday-8am/2025-10-04/
LOCATION:Conference Center of the Americas Ballroom\, Florida\, United States
CATEGORIES:Fitness
END:VEVENT
BEGIN:VEVENT
DTSTART;TZID=America/New_York:20250927T083000
DTEND;TZID=America/New_York:20250927T093000
DTSTAMP:20260420T101057
CREATED:20240104T214054Z
LAST-MODIFIED:20260407T203642Z
UID:10070133-1758961800-1758965400@biltmorehotel.com
SUMMARY:Fitwalk (60 minutes) with Sally - Saturday 8:30am
DESCRIPTION:Unique\, outdoor fitness class walking thru our exclusive golf course boosting energy and improving balance… all in the fresh air of nature
URL:https://biltmorehotel.com/event/fitwalk-60min-with-sally-friday-8am/2025-09-27/
LOCATION:Conference Center of the Americas Ballroom\, Florida\, United States
CATEGORIES:Fitness
END:VEVENT
END:VCALENDAR