BEGIN:VCALENDAR
VERSION:2.0
PRODID:-//The Biltmore Hotel - ECPv6.15.20//NONSGML v1.0//EN
CALSCALE:GREGORIAN
METHOD:PUBLISH
X-WR-CALNAME:The Biltmore Hotel
X-ORIGINAL-URL:https://biltmorehotel.com
X-WR-CALDESC:Events for The Biltmore Hotel
REFRESH-INTERVAL;VALUE=DURATION:PT1H
X-Robots-Tag:noindex
X-PUBLISHED-TTL:PT1H
BEGIN:VTIMEZONE
TZID:America/New_York
BEGIN:DAYLIGHT
TZOFFSETFROM:-0500
TZOFFSETTO:-0400
TZNAME:EDT
DTSTART:20240310T070000
END:DAYLIGHT
BEGIN:STANDARD
TZOFFSETFROM:-0400
TZOFFSETTO:-0500
TZNAME:EST
DTSTART:20241103T060000
END:STANDARD
BEGIN:DAYLIGHT
TZOFFSETFROM:-0500
TZOFFSETTO:-0400
TZNAME:EDT
DTSTART:20250309T070000
END:DAYLIGHT
BEGIN:STANDARD
TZOFFSETFROM:-0400
TZOFFSETTO:-0500
TZNAME:EST
DTSTART:20251102T060000
END:STANDARD
BEGIN:DAYLIGHT
TZOFFSETFROM:-0500
TZOFFSETTO:-0400
TZNAME:EDT
DTSTART:20260308T070000
END:DAYLIGHT
BEGIN:STANDARD
TZOFFSETFROM:-0400
TZOFFSETTO:-0500
TZNAME:EST
DTSTART:20261101T060000
END:STANDARD
END:VTIMEZONE
BEGIN:VEVENT
DTSTART;TZID=America/New_York:20250809T083000
DTEND;TZID=America/New_York:20250809T093000
DTSTAMP:20260420T145549
CREATED:20240104T214054Z
LAST-MODIFIED:20260407T203642Z
UID:10070126-1754728200-1754731800@biltmorehotel.com
SUMMARY:Fitwalk (60 minutes) with Sally - Saturday 8:30am
DESCRIPTION:Unique\, outdoor fitness class walking thru our exclusive golf course boosting energy and improving balance… all in the fresh air of nature
URL:https://biltmorehotel.com/event/fitwalk-60min-with-sally-friday-8am/2025-08-09/
LOCATION:Conference Center of the Americas Ballroom\, Florida\, United States
CATEGORIES:Fitness
END:VEVENT
BEGIN:VEVENT
DTSTART;TZID=America/New_York:20250802T083000
DTEND;TZID=America/New_York:20250802T093000
DTSTAMP:20260420T145549
CREATED:20240104T214054Z
LAST-MODIFIED:20260407T203642Z
UID:10070125-1754123400-1754127000@biltmorehotel.com
SUMMARY:Fitwalk (60 minutes) with Sally - Saturday 8:30am
DESCRIPTION:Unique\, outdoor fitness class walking thru our exclusive golf course boosting energy and improving balance… all in the fresh air of nature
URL:https://biltmorehotel.com/event/fitwalk-60min-with-sally-friday-8am/2025-08-02/
LOCATION:Conference Center of the Americas Ballroom\, Florida\, United States
CATEGORIES:Fitness
END:VEVENT
BEGIN:VEVENT
DTSTART;TZID=America/New_York:20250726T083000
DTEND;TZID=America/New_York:20250726T093000
DTSTAMP:20260420T145549
CREATED:20240104T214054Z
LAST-MODIFIED:20260407T203642Z
UID:10063202-1753518600-1753522200@biltmorehotel.com
SUMMARY:Fitwalk (60 minutes) with Sally - Saturday 8:30am
DESCRIPTION:Unique\, outdoor fitness class walking thru our exclusive golf course boosting energy and improving balance… all in the fresh air of nature
URL:https://biltmorehotel.com/event/fitwalk-60min-with-sally-friday-8am/2025-07-26/
LOCATION:Conference Center of the Americas Ballroom\, Florida\, United States
CATEGORIES:Fitness
END:VEVENT
BEGIN:VEVENT
DTSTART;TZID=America/New_York:20250719T083000
DTEND;TZID=America/New_York:20250719T093000
DTSTAMP:20260420T145549
CREATED:20240104T214054Z
LAST-MODIFIED:20260407T203642Z
UID:10063201-1752913800-1752917400@biltmorehotel.com
SUMMARY:Fitwalk (60 minutes) with Sally - Saturday 8:30am
DESCRIPTION:Unique\, outdoor fitness class walking thru our exclusive golf course boosting energy and improving balance… all in the fresh air of nature
URL:https://biltmorehotel.com/event/fitwalk-60min-with-sally-friday-8am/2025-07-19/
LOCATION:Conference Center of the Americas Ballroom\, Florida\, United States
CATEGORIES:Fitness
END:VEVENT
BEGIN:VEVENT
DTSTART;TZID=America/New_York:20250712T083000
DTEND;TZID=America/New_York:20250712T093000
DTSTAMP:20260420T145549
CREATED:20240104T214054Z
LAST-MODIFIED:20260407T203642Z
UID:10063200-1752309000-1752312600@biltmorehotel.com
SUMMARY:Fitwalk (60 minutes) with Sally - Saturday 8:30am
DESCRIPTION:Unique\, outdoor fitness class walking thru our exclusive golf course boosting energy and improving balance… all in the fresh air of nature
URL:https://biltmorehotel.com/event/fitwalk-60min-with-sally-friday-8am/2025-07-12/
LOCATION:Conference Center of the Americas Ballroom\, Florida\, United States
CATEGORIES:Fitness
END:VEVENT
BEGIN:VEVENT
DTSTART;TZID=America/New_York:20250628T083000
DTEND;TZID=America/New_York:20250628T093000
DTSTAMP:20260420T145549
CREATED:20240104T214054Z
LAST-MODIFIED:20260407T203642Z
UID:10063198-1751099400-1751103000@biltmorehotel.com
SUMMARY:Fitwalk (60 minutes) with Sally - Saturday 8:30am
DESCRIPTION:Unique\, outdoor fitness class walking thru our exclusive golf course boosting energy and improving balance… all in the fresh air of nature
URL:https://biltmorehotel.com/event/fitwalk-60min-with-sally-friday-8am/2025-06-28/
LOCATION:Conference Center of the Americas Ballroom\, Florida\, United States
CATEGORIES:Fitness
END:VEVENT
BEGIN:VEVENT
DTSTART;TZID=America/New_York:20250621T083000
DTEND;TZID=America/New_York:20250621T093000
DTSTAMP:20260420T145549
CREATED:20240104T214054Z
LAST-MODIFIED:20260407T203642Z
UID:10063197-1750494600-1750498200@biltmorehotel.com
SUMMARY:Fitwalk (60 minutes) with Sally - Saturday 8:30am
DESCRIPTION:Unique\, outdoor fitness class walking thru our exclusive golf course boosting energy and improving balance… all in the fresh air of nature
URL:https://biltmorehotel.com/event/fitwalk-60min-with-sally-friday-8am/2025-06-21/
LOCATION:Conference Center of the Americas Ballroom\, Florida\, United States
CATEGORIES:Fitness
END:VEVENT
BEGIN:VEVENT
DTSTART;TZID=America/New_York:20250614T083000
DTEND;TZID=America/New_York:20250614T093000
DTSTAMP:20260420T145549
CREATED:20240104T214054Z
LAST-MODIFIED:20260407T203642Z
UID:10063196-1749889800-1749893400@biltmorehotel.com
SUMMARY:Fitwalk (60 minutes) with Sally - Saturday 8:30am
DESCRIPTION:Unique\, outdoor fitness class walking thru our exclusive golf course boosting energy and improving balance… all in the fresh air of nature
URL:https://biltmorehotel.com/event/fitwalk-60min-with-sally-friday-8am/2025-06-14/
LOCATION:Conference Center of the Americas Ballroom\, Florida\, United States
CATEGORIES:Fitness
END:VEVENT
BEGIN:VEVENT
DTSTART;TZID=America/New_York:20250607T083000
DTEND;TZID=America/New_York:20250607T093000
DTSTAMP:20260420T145549
CREATED:20240104T214054Z
LAST-MODIFIED:20260407T203642Z
UID:10063195-1749285000-1749288600@biltmorehotel.com
SUMMARY:Fitwalk (60 minutes) with Sally - Saturday 8:30am
DESCRIPTION:Unique\, outdoor fitness class walking thru our exclusive golf course boosting energy and improving balance… all in the fresh air of nature
URL:https://biltmorehotel.com/event/fitwalk-60min-with-sally-friday-8am/2025-06-07/
LOCATION:Conference Center of the Americas Ballroom\, Florida\, United States
CATEGORIES:Fitness
END:VEVENT
BEGIN:VEVENT
DTSTART;TZID=America/New_York:20250531T083000
DTEND;TZID=America/New_York:20250531T093000
DTSTAMP:20260420T145549
CREATED:20240104T214054Z
LAST-MODIFIED:20260407T203642Z
UID:10063194-1748680200-1748683800@biltmorehotel.com
SUMMARY:Fitwalk (60 minutes) with Sally - Saturday 8:30am
DESCRIPTION:Unique\, outdoor fitness class walking thru our exclusive golf course boosting energy and improving balance… all in the fresh air of nature
URL:https://biltmorehotel.com/event/fitwalk-60min-with-sally-friday-8am/2025-05-31/
LOCATION:Conference Center of the Americas Ballroom\, Florida\, United States
CATEGORIES:Fitness
END:VEVENT
BEGIN:VEVENT
DTSTART;TZID=America/New_York:20250524T083000
DTEND;TZID=America/New_York:20250524T093000
DTSTAMP:20260420T145549
CREATED:20240104T214054Z
LAST-MODIFIED:20260407T203642Z
UID:10063193-1748075400-1748079000@biltmorehotel.com
SUMMARY:Fitwalk (60 minutes) with Sally - Saturday 8:30am
DESCRIPTION:Unique\, outdoor fitness class walking thru our exclusive golf course boosting energy and improving balance… all in the fresh air of nature
URL:https://biltmorehotel.com/event/fitwalk-60min-with-sally-friday-8am/2025-05-24/
LOCATION:Conference Center of the Americas Ballroom\, Florida\, United States
CATEGORIES:Fitness
END:VEVENT
BEGIN:VEVENT
DTSTART;TZID=America/New_York:20250517T083000
DTEND;TZID=America/New_York:20250517T093000
DTSTAMP:20260420T145549
CREATED:20240104T214054Z
LAST-MODIFIED:20260407T203642Z
UID:10063192-1747470600-1747474200@biltmorehotel.com
SUMMARY:Fitwalk (60 minutes) with Sally - Saturday 8:30am
DESCRIPTION:Unique\, outdoor fitness class walking thru our exclusive golf course boosting energy and improving balance… all in the fresh air of nature
URL:https://biltmorehotel.com/event/fitwalk-60min-with-sally-friday-8am/2025-05-17/
LOCATION:Conference Center of the Americas Ballroom\, Florida\, United States
CATEGORIES:Fitness
END:VEVENT
BEGIN:VEVENT
DTSTART;TZID=America/New_York:20250510T083000
DTEND;TZID=America/New_York:20250510T093000
DTSTAMP:20260420T145549
CREATED:20240104T214054Z
LAST-MODIFIED:20260407T203642Z
UID:10063191-1746865800-1746869400@biltmorehotel.com
SUMMARY:Fitwalk (60 minutes) with Sally - Saturday 8:30am
DESCRIPTION:Unique\, outdoor fitness class walking thru our exclusive golf course boosting energy and improving balance… all in the fresh air of nature
URL:https://biltmorehotel.com/event/fitwalk-60min-with-sally-friday-8am/2025-05-10/
LOCATION:Conference Center of the Americas Ballroom\, Florida\, United States
CATEGORIES:Fitness
END:VEVENT
BEGIN:VEVENT
DTSTART;TZID=America/New_York:20250503T083000
DTEND;TZID=America/New_York:20250503T093000
DTSTAMP:20260420T145549
CREATED:20240104T214054Z
LAST-MODIFIED:20260407T203642Z
UID:10063190-1746261000-1746264600@biltmorehotel.com
SUMMARY:Fitwalk (60 minutes) with Sally - Saturday 8:30am
DESCRIPTION:Unique\, outdoor fitness class walking thru our exclusive golf course boosting energy and improving balance… all in the fresh air of nature
URL:https://biltmorehotel.com/event/fitwalk-60min-with-sally-friday-8am/2025-05-03/
LOCATION:Conference Center of the Americas Ballroom\, Florida\, United States
CATEGORIES:Fitness
END:VEVENT
BEGIN:VEVENT
DTSTART;TZID=America/New_York:20250426T083000
DTEND;TZID=America/New_York:20250426T093000
DTSTAMP:20260420T145549
CREATED:20240104T214054Z
LAST-MODIFIED:20260407T203642Z
UID:10063189-1745656200-1745659800@biltmorehotel.com
SUMMARY:Fitwalk (60 minutes) with Sally - Saturday 8:30am
DESCRIPTION:Unique\, outdoor fitness class walking thru our exclusive golf course boosting energy and improving balance… all in the fresh air of nature
URL:https://biltmorehotel.com/event/fitwalk-60min-with-sally-friday-8am/2025-04-26/
LOCATION:Conference Center of the Americas Ballroom\, Florida\, United States
CATEGORIES:Fitness
END:VEVENT
BEGIN:VEVENT
DTSTART;TZID=America/New_York:20250419T083000
DTEND;TZID=America/New_York:20250419T093000
DTSTAMP:20260420T145549
CREATED:20240104T214054Z
LAST-MODIFIED:20260407T203642Z
UID:10063188-1745051400-1745055000@biltmorehotel.com
SUMMARY:Fitwalk (60 minutes) with Sally - Saturday 8:30am
DESCRIPTION:Unique\, outdoor fitness class walking thru our exclusive golf course boosting energy and improving balance… all in the fresh air of nature
URL:https://biltmorehotel.com/event/fitwalk-60min-with-sally-friday-8am/2025-04-19/
LOCATION:Conference Center of the Americas Ballroom\, Florida\, United States
CATEGORIES:Fitness
END:VEVENT
BEGIN:VEVENT
DTSTART;TZID=America/New_York:20250412T083000
DTEND;TZID=America/New_York:20250412T093000
DTSTAMP:20260420T145549
CREATED:20240104T214054Z
LAST-MODIFIED:20260407T203642Z
UID:10063187-1744446600-1744450200@biltmorehotel.com
SUMMARY:Fitwalk (60 minutes) with Sally - Saturday 8:30am
DESCRIPTION:Unique\, outdoor fitness class walking thru our exclusive golf course boosting energy and improving balance… all in the fresh air of nature
URL:https://biltmorehotel.com/event/fitwalk-60min-with-sally-friday-8am/2025-04-12/
LOCATION:Conference Center of the Americas Ballroom\, Florida\, United States
CATEGORIES:Fitness
END:VEVENT
BEGIN:VEVENT
DTSTART;TZID=America/New_York:20250405T083000
DTEND;TZID=America/New_York:20250405T093000
DTSTAMP:20260420T145549
CREATED:20240104T214054Z
LAST-MODIFIED:20260407T203642Z
UID:10063186-1743841800-1743845400@biltmorehotel.com
SUMMARY:Fitwalk (60 minutes) with Sally - Saturday 8:30am
DESCRIPTION:Unique\, outdoor fitness class walking thru our exclusive golf course boosting energy and improving balance… all in the fresh air of nature
URL:https://biltmorehotel.com/event/fitwalk-60min-with-sally-friday-8am/2025-04-05/
LOCATION:Conference Center of the Americas Ballroom\, Florida\, United States
CATEGORIES:Fitness
END:VEVENT
BEGIN:VEVENT
DTSTART;TZID=America/New_York:20250329T083000
DTEND;TZID=America/New_York:20250329T093000
DTSTAMP:20260420T145549
CREATED:20240104T214054Z
LAST-MODIFIED:20260407T203642Z
UID:10063185-1743237000-1743240600@biltmorehotel.com
SUMMARY:Fitwalk (60 minutes) with Sally - Saturday 8:30am
DESCRIPTION:Unique\, outdoor fitness class walking thru our exclusive golf course boosting energy and improving balance… all in the fresh air of nature
URL:https://biltmorehotel.com/event/fitwalk-60min-with-sally-friday-8am/2025-03-29/
LOCATION:Conference Center of the Americas Ballroom\, Florida\, United States
CATEGORIES:Fitness
END:VEVENT
BEGIN:VEVENT
DTSTART;TZID=America/New_York:20250322T083000
DTEND;TZID=America/New_York:20250322T093000
DTSTAMP:20260420T145549
CREATED:20240104T214054Z
LAST-MODIFIED:20260407T203642Z
UID:10063184-1742632200-1742635800@biltmorehotel.com
SUMMARY:Fitwalk (60 minutes) with Sally - Saturday 8:30am
DESCRIPTION:Unique\, outdoor fitness class walking thru our exclusive golf course boosting energy and improving balance… all in the fresh air of nature
URL:https://biltmorehotel.com/event/fitwalk-60min-with-sally-friday-8am/2025-03-22/
LOCATION:Conference Center of the Americas Ballroom\, Florida\, United States
CATEGORIES:Fitness
END:VEVENT
BEGIN:VEVENT
DTSTART;TZID=America/New_York:20250315T083000
DTEND;TZID=America/New_York:20250315T093000
DTSTAMP:20260420T145549
CREATED:20240104T214054Z
LAST-MODIFIED:20260407T203642Z
UID:10063183-1742027400-1742031000@biltmorehotel.com
SUMMARY:Fitwalk (60 minutes) with Sally - Saturday 8:30am
DESCRIPTION:Unique\, outdoor fitness class walking thru our exclusive golf course boosting energy and improving balance… all in the fresh air of nature
URL:https://biltmorehotel.com/event/fitwalk-60min-with-sally-friday-8am/2025-03-15/
LOCATION:Conference Center of the Americas Ballroom\, Florida\, United States
CATEGORIES:Fitness
END:VEVENT
BEGIN:VEVENT
DTSTART;TZID=America/New_York:20250308T083000
DTEND;TZID=America/New_York:20250308T093000
DTSTAMP:20260420T145549
CREATED:20240104T214054Z
LAST-MODIFIED:20260407T203642Z
UID:10063182-1741422600-1741426200@biltmorehotel.com
SUMMARY:Fitwalk (60 minutes) with Sally - Saturday 8:30am
DESCRIPTION:Unique\, outdoor fitness class walking thru our exclusive golf course boosting energy and improving balance… all in the fresh air of nature
URL:https://biltmorehotel.com/event/fitwalk-60min-with-sally-friday-8am/2025-03-08/
LOCATION:Conference Center of the Americas Ballroom\, Florida\, United States
CATEGORIES:Fitness
END:VEVENT
BEGIN:VEVENT
DTSTART;TZID=America/New_York:20250222T083000
DTEND;TZID=America/New_York:20250222T093000
DTSTAMP:20260420T145549
CREATED:20240104T214054Z
LAST-MODIFIED:20260407T203642Z
UID:10063180-1740213000-1740216600@biltmorehotel.com
SUMMARY:Fitwalk (60 minutes) with Sally - Saturday 8:30am
DESCRIPTION:Unique\, outdoor fitness class walking thru our exclusive golf course boosting energy and improving balance… all in the fresh air of nature
URL:https://biltmorehotel.com/event/fitwalk-60min-with-sally-friday-8am/2025-02-22/
LOCATION:Conference Center of the Americas Ballroom\, Florida\, United States
CATEGORIES:Fitness
END:VEVENT
BEGIN:VEVENT
DTSTART;TZID=America/New_York:20250215T083000
DTEND;TZID=America/New_York:20250215T093000
DTSTAMP:20260420T145549
CREATED:20240104T214054Z
LAST-MODIFIED:20260407T203642Z
UID:10063179-1739608200-1739611800@biltmorehotel.com
SUMMARY:Fitwalk (60 minutes) with Sally - Saturday 8:30am
DESCRIPTION:Unique\, outdoor fitness class walking thru our exclusive golf course boosting energy and improving balance… all in the fresh air of nature
URL:https://biltmorehotel.com/event/fitwalk-60min-with-sally-friday-8am/2025-02-15/
LOCATION:Conference Center of the Americas Ballroom\, Florida\, United States
CATEGORIES:Fitness
END:VEVENT
BEGIN:VEVENT
DTSTART;TZID=America/New_York:20250208T083000
DTEND;TZID=America/New_York:20250208T093000
DTSTAMP:20260420T145549
CREATED:20240104T214054Z
LAST-MODIFIED:20260407T203642Z
UID:10063178-1739003400-1739007000@biltmorehotel.com
SUMMARY:Fitwalk (60 minutes) with Sally - Saturday 8:30am
DESCRIPTION:Unique\, outdoor fitness class walking thru our exclusive golf course boosting energy and improving balance… all in the fresh air of nature
URL:https://biltmorehotel.com/event/fitwalk-60min-with-sally-friday-8am/2025-02-08/
LOCATION:Conference Center of the Americas Ballroom\, Florida\, United States
CATEGORIES:Fitness
END:VEVENT
BEGIN:VEVENT
DTSTART;TZID=America/New_York:20250201T083000
DTEND;TZID=America/New_York:20250201T093000
DTSTAMP:20260420T145549
CREATED:20240104T214054Z
LAST-MODIFIED:20260407T203642Z
UID:10063177-1738398600-1738402200@biltmorehotel.com
SUMMARY:Fitwalk (60 minutes) with Sally - Saturday 8:30am
DESCRIPTION:Unique\, outdoor fitness class walking thru our exclusive golf course boosting energy and improving balance… all in the fresh air of nature
URL:https://biltmorehotel.com/event/fitwalk-60min-with-sally-friday-8am/2025-02-01/
LOCATION:Conference Center of the Americas Ballroom\, Florida\, United States
CATEGORIES:Fitness
END:VEVENT
BEGIN:VEVENT
DTSTART;TZID=America/New_York:20250125T083000
DTEND;TZID=America/New_York:20250125T093000
DTSTAMP:20260420T145549
CREATED:20240104T214054Z
LAST-MODIFIED:20260407T203642Z
UID:10063176-1737793800-1737797400@biltmorehotel.com
SUMMARY:Fitwalk (60 minutes) with Sally - Saturday 8:30am
DESCRIPTION:Unique\, outdoor fitness class walking thru our exclusive golf course boosting energy and improving balance… all in the fresh air of nature
URL:https://biltmorehotel.com/event/fitwalk-60min-with-sally-friday-8am/2025-01-25/
LOCATION:Conference Center of the Americas Ballroom\, Florida\, United States
CATEGORIES:Fitness
END:VEVENT
BEGIN:VEVENT
DTSTART;TZID=America/New_York:20250118T083000
DTEND;TZID=America/New_York:20250118T093000
DTSTAMP:20260420T145549
CREATED:20240104T214054Z
LAST-MODIFIED:20260407T203642Z
UID:10063175-1737189000-1737192600@biltmorehotel.com
SUMMARY:Fitwalk (60 minutes) with Sally - Saturday 8:30am
DESCRIPTION:Unique\, outdoor fitness class walking thru our exclusive golf course boosting energy and improving balance… all in the fresh air of nature
URL:https://biltmorehotel.com/event/fitwalk-60min-with-sally-friday-8am/2025-01-18/
LOCATION:Conference Center of the Americas Ballroom\, Florida\, United States
CATEGORIES:Fitness
END:VEVENT
END:VCALENDAR