BEGIN:VCALENDAR
VERSION:2.0
PRODID:-//The Biltmore Hotel - ECPv6.15.20//NONSGML v1.0//EN
CALSCALE:GREGORIAN
METHOD:PUBLISH
X-WR-CALNAME:The Biltmore Hotel
X-ORIGINAL-URL:https://biltmorehotel.com
X-WR-CALDESC:Events for The Biltmore Hotel
REFRESH-INTERVAL;VALUE=DURATION:PT1H
X-Robots-Tag:noindex
X-PUBLISHED-TTL:PT1H
BEGIN:VTIMEZONE
TZID:America/New_York
BEGIN:DAYLIGHT
TZOFFSETFROM:-0500
TZOFFSETTO:-0400
TZNAME:EDT
DTSTART:20250309T070000
END:DAYLIGHT
BEGIN:STANDARD
TZOFFSETFROM:-0400
TZOFFSETTO:-0500
TZNAME:EST
DTSTART:20251102T060000
END:STANDARD
BEGIN:DAYLIGHT
TZOFFSETFROM:-0500
TZOFFSETTO:-0400
TZNAME:EDT
DTSTART:20260308T070000
END:DAYLIGHT
BEGIN:STANDARD
TZOFFSETFROM:-0400
TZOFFSETTO:-0500
TZNAME:EST
DTSTART:20261101T060000
END:STANDARD
BEGIN:DAYLIGHT
TZOFFSETFROM:-0500
TZOFFSETTO:-0400
TZNAME:EDT
DTSTART:20270314T070000
END:DAYLIGHT
BEGIN:STANDARD
TZOFFSETFROM:-0400
TZOFFSETTO:-0500
TZNAME:EST
DTSTART:20271107T060000
END:STANDARD
END:VTIMEZONE
BEGIN:VEVENT
DTSTART;TZID=America/New_York:20260523T101500
DTEND;TZID=America/New_York:20260523T111000
DTSTAMP:20260421T040648
CREATED:20250925T204521Z
LAST-MODIFIED:20260407T210606Z
UID:10072518-1779531300-1779534600@biltmorehotel.com
SUMMARY:Fitness (55 minutes) with Ruth - Saturday 10:15am
DESCRIPTION:Cardio-based workout promoting\, building\, and maintaining muscular strength and cardiovascular endurance.
URL:https://biltmorehotel.com/event/fitness-60-with-ruth-saturday-1015am-2/2026-05-23/
LOCATION:Fitness Studio
CATEGORIES:Fitness
END:VEVENT
BEGIN:VEVENT
DTSTART;TZID=America/New_York:20260524T090000
DTEND;TZID=America/New_York:20260524T100000
DTSTAMP:20260421T040648
CREATED:20240402T210000Z
LAST-MODIFIED:20260408T155352Z
UID:10074557-1779613200-1779616800@biltmorehotel.com
SUMMARY:Barre (60 minutes) with Ruth - Sundays 9am
DESCRIPTION:Low impact Ballet + Pilates + yoga for strength\, flexibility\, and posture.
URL:https://biltmorehotel.com/event/barre-with-ruth-60min-sundays-9am/2026-05-24/
LOCATION:Fitness Studio
CATEGORIES:Fitness
END:VEVENT
BEGIN:VEVENT
DTSTART;TZID=America/New_York:20260524T100000
DTEND;TZID=America/New_York:20260524T110000
DTSTAMP:20260421T040648
CREATED:20240403T134910Z
LAST-MODIFIED:20260408T155815Z
UID:10072605-1779616800-1779620400@biltmorehotel.com
SUMMARY:Fitness (60 minutes) with Ruth - Sundays 10am
DESCRIPTION:Cardio-based workout promoting\, building\, and maintaining muscular strength and cardiovascular endurance.
URL:https://biltmorehotel.com/event/fitness-60-with-ruth-sundays-10am/2026-05-24/
LOCATION:Fitness Studio
CATEGORIES:Fitness
END:VEVENT
BEGIN:VEVENT
DTSTART;TZID=America/New_York:20260525T090000
DTEND;TZID=America/New_York:20260525T100000
DTSTAMP:20260421T040648
CREATED:20231003T185502Z
LAST-MODIFIED:20260407T200301Z
UID:10073194-1779699600-1779703200@biltmorehotel.com
SUMMARY:Fitness (60 minutes) with Susie - Mon & Fri 9am
DESCRIPTION:Cardio-based workout promoting\, building\, and maintaining muscular strength and cardiovascular endurance.
URL:https://biltmorehotel.com/event/fitness-60-with-susie-mon-fri-9am/2026-05-25/
LOCATION:Fitness Studio
CATEGORIES:Fitness
END:VEVENT
BEGIN:VEVENT
DTSTART;TZID=America/New_York:20260525T100000
DTEND;TZID=America/New_York:20260525T225500
DTSTAMP:20260421T040648
CREATED:20231227T202327Z
LAST-MODIFIED:20260407T202302Z
UID:10071964-1779703200-1779749700@biltmorehotel.com
SUMMARY:Fitness (55 minutes) with Erica- Mon/Wed/Fri 10am
DESCRIPTION:Cardio-based workout promoting\, building\, and maintaining muscular strength and cardiovascular endurance.
URL:https://biltmorehotel.com/event/fitness-55min-with-erica-mon-wed-fri-10am/2026-05-25/
LOCATION:Fitness Studio
CATEGORIES:Fitness
END:VEVENT
BEGIN:VEVENT
DTSTART;TZID=America/New_York:20260525T111500
DTEND;TZID=America/New_York:20260525T121500
DTSTAMP:20260421T040648
CREATED:20250923T160802Z
LAST-MODIFIED:20260408T161856Z
UID:10071974-1779707700-1779711300@biltmorehotel.com
SUMMARY:Mat Pilates (60 minutes) with Cat - Mon 11:15am
DESCRIPTION:A low impact\, full-body workout focusing on core strength\, flexibility\, balance\, and coordination on a matt setting. \nFor more information please contact Philip\, Fitness Director at palatriste@biltmorehotel.com or visit or call the Fitness Front Desk (305) 913 – 3102. \nConsent for participation in a health and fitness training program\, a Physical Activity Readiness Questionnaire (PAR-Q)\, and an Activity Waiver Form is recommended. For chronic conditions a physician referral is recommended.  \n 
URL:https://biltmorehotel.com/event/mat-pilates-55min-with-cat-mon-1115am/2026-05-25/
LOCATION:Fitness Studio
CATEGORIES:Fitness
END:VEVENT
BEGIN:VEVENT
DTSTART;TZID=America/New_York:20260525T163000
DTEND;TZID=America/New_York:20260525T172000
DTSTAMP:20260421T040648
CREATED:20231229T142750Z
LAST-MODIFIED:20260401T191643Z
UID:10073445-1779726600-1779729600@biltmorehotel.com
SUMMARY:TRX (30 minutes\, $$) with Philip - Mon & Wed 4:30pm
DESCRIPTION:Total-body resistance exercises using straps\, gravity\, and your own bodyweight to build strength and toning \nFor more information please contact Philip\, Fitness Director at palatriste@biltmorehotel.com or visit or call the Fitness Front Desk (305) 913 – 3102. \nPayments are payable to The Biltmore Hotel. 48-hour cancellation period does apply. \nConsent for participation in a health and fitness training program\, a Physical Activity Readiness Questionnaire (PAR-Q)\, and an Activity Waiver Form is recommended. For chronic conditions a physician referral is recommended.  \n 
URL:https://biltmorehotel.com/event/trx-50min-with-philip-mon-wed-430pm/2026-05-25/
LOCATION:Fitness Studio
CATEGORIES:Fitness
END:VEVENT
BEGIN:VEVENT
DTSTART;TZID=America/New_York:20260526T074500
DTEND;TZID=America/New_York:20260526T084500
DTSTAMP:20260421T040649
CREATED:20231003T182230Z
LAST-MODIFIED:20260408T162839Z
UID:10072693-1779781500-1779785100@biltmorehotel.com
SUMMARY:Stretch (60 minutes) with Tanis - Tues & Thurs 7:45am
DESCRIPTION:Restorative stretching class that improves mobility by lengthening and strengthening your muscles.
URL:https://biltmorehotel.com/event/stretch-60-with-tanis-tues-thurs-745am/2026-05-26/
LOCATION:Fitness Studio
CATEGORIES:Fitness
END:VEVENT
BEGIN:VEVENT
DTSTART;TZID=America/New_York:20260526T090000
DTEND;TZID=America/New_York:20260526T095500
DTSTAMP:20260421T040649
CREATED:20231003T182043Z
LAST-MODIFIED:20260408T163145Z
UID:10072117-1779786000-1779789300@biltmorehotel.com
SUMMARY:Zumba (55 minutes) with Jon - Tues & Thurs 9am
DESCRIPTION:Energizing\, recreational workout in a calorie-burning dance fitness party.
URL:https://biltmorehotel.com/event/zumba-60-with-jon-tues-thurs-9am/2026-05-26/
LOCATION:Fitness Studio
CATEGORIES:Fitness
END:VEVENT
BEGIN:VEVENT
DTSTART;TZID=America/New_York:20260526T101500
DTEND;TZID=America/New_York:20260526T231500
DTSTAMP:20260421T040649
CREATED:20250923T165028Z
LAST-MODIFIED:20260401T182139Z
UID:10072134-1779790500-1779837300@biltmorehotel.com
SUMMARY:Mat Pilates (55 minutes) with Sandy- Tues & Thurs 10:15am
DESCRIPTION:A low impact\, full-body workout focusing on core strength\, flexibility\, balance\, and coordination on a mat setting. \nFor more information please contact Philip\, Fitness Director at palatriste@biltmorehotel.com or visit or call the Fitness Front Desk (305) 913 – 3102. \nConsent for participation in a health and fitness training program\, a Physical Activity Readiness Questionnaire (PAR-Q)\, and an Activity Waiver Form is recommended. For chronic conditions a physician referral is recommended.  \n 
URL:https://biltmorehotel.com/event/mat-pilates-55min-with-sandy-tues-thurs-1015am/2026-05-26/
LOCATION:Fitness Studio
CATEGORIES:Fitness
END:VEVENT
BEGIN:VEVENT
DTSTART;TZID=America/New_York:20260526T170000
DTEND;TZID=America/New_York:20260526T173000
DTSTAMP:20260421T040649
CREATED:20241218T145545Z
LAST-MODIFIED:20260401T182753Z
UID:10072185-1779814800-1779816600@biltmorehotel.com
SUMMARY:Body Sculpt (30 minutes) with Nathalia - Tues & Thur 5pm
DESCRIPTION:High energy cardio strength training for the upper body\, lower body and core.
URL:https://biltmorehotel.com/event/body-sculpt-with-nathalia-tues-thur-5pm-2/2026-05-26/
LOCATION:Fitness Studio
CATEGORIES:Fitness
END:VEVENT
BEGIN:VEVENT
DTSTART;TZID=America/New_York:20260526T173000
DTEND;TZID=America/New_York:20260526T180000
DTSTAMP:20260421T040649
CREATED:20241218T144722Z
LAST-MODIFIED:20260401T185222Z
UID:10072237-1779816600-1779818400@biltmorehotel.com
SUMMARY:Ab Lab (30 minutes) with Nathalia - Tues & Thurs 5:30 pm
DESCRIPTION:Meant to exhaust every muscle of your core.
URL:https://biltmorehotel.com/event/ab-lab-with-nathalia-30min-tuesdays-530-pm/2026-05-26/
LOCATION:Fitness Studio
CATEGORIES:Fitness
END:VEVENT
BEGIN:VEVENT
DTSTART;TZID=America/New_York:20260527T100000
DTEND;TZID=America/New_York:20260527T225500
DTSTAMP:20260421T040649
CREATED:20231227T202327Z
LAST-MODIFIED:20260407T202302Z
UID:10071965-1779876000-1779922500@biltmorehotel.com
SUMMARY:Fitness (55 minutes) with Erica- Mon/Wed/Fri 10am
DESCRIPTION:Cardio-based workout promoting\, building\, and maintaining muscular strength and cardiovascular endurance.
URL:https://biltmorehotel.com/event/fitness-55min-with-erica-mon-wed-fri-10am/2026-05-27/
LOCATION:Fitness Studio
CATEGORIES:Fitness
END:VEVENT
BEGIN:VEVENT
DTSTART;TZID=America/New_York:20260527T163000
DTEND;TZID=America/New_York:20260527T172000
DTSTAMP:20260421T040649
CREATED:20231229T142750Z
LAST-MODIFIED:20260401T191643Z
UID:10073446-1779899400-1779902400@biltmorehotel.com
SUMMARY:TRX (30 minutes\, $$) with Philip - Mon & Wed 4:30pm
DESCRIPTION:Total-body resistance exercises using straps\, gravity\, and your own bodyweight to build strength and toning \nFor more information please contact Philip\, Fitness Director at palatriste@biltmorehotel.com or visit or call the Fitness Front Desk (305) 913 – 3102. \nPayments are payable to The Biltmore Hotel. 48-hour cancellation period does apply. \nConsent for participation in a health and fitness training program\, a Physical Activity Readiness Questionnaire (PAR-Q)\, and an Activity Waiver Form is recommended. For chronic conditions a physician referral is recommended.  \n 
URL:https://biltmorehotel.com/event/trx-50min-with-philip-mon-wed-430pm/2026-05-27/
LOCATION:Fitness Studio
CATEGORIES:Fitness
END:VEVENT
BEGIN:VEVENT
DTSTART;TZID=America/New_York:20260527T183000
DTEND;TZID=America/New_York:20260527T191500
DTSTAMP:20260421T040649
CREATED:20250925T195538Z
LAST-MODIFIED:20260401T194034Z
UID:10074176-1779906600-1779909300@biltmorehotel.com
SUMMARY:Booty Bands (45 minutes) with Nathalia - Wednesday 6:30pm
DESCRIPTION:High-energy lower body burn focused on glutes\, hips thighs using resistance bands to build strength\, shape\, and endurance.
URL:https://biltmorehotel.com/event/booty-bands-with-nathalia-wednesday-630pm/2026-05-27/
LOCATION:Fitness Studio
CATEGORIES:Fitness
END:VEVENT
BEGIN:VEVENT
DTSTART;TZID=America/New_York:20260528T074500
DTEND;TZID=America/New_York:20260528T084500
DTSTAMP:20260421T040649
CREATED:20231003T182230Z
LAST-MODIFIED:20260408T162839Z
UID:10072694-1779954300-1779957900@biltmorehotel.com
SUMMARY:Stretch (60 minutes) with Tanis - Tues & Thurs 7:45am
DESCRIPTION:Restorative stretching class that improves mobility by lengthening and strengthening your muscles.
URL:https://biltmorehotel.com/event/stretch-60-with-tanis-tues-thurs-745am/2026-05-28/
LOCATION:Fitness Studio
CATEGORIES:Fitness
END:VEVENT
BEGIN:VEVENT
DTSTART;TZID=America/New_York:20260528T090000
DTEND;TZID=America/New_York:20260528T095500
DTSTAMP:20260421T040649
CREATED:20231003T182043Z
LAST-MODIFIED:20260408T163145Z
UID:10072118-1779958800-1779962100@biltmorehotel.com
SUMMARY:Zumba (55 minutes) with Jon - Tues & Thurs 9am
DESCRIPTION:Energizing\, recreational workout in a calorie-burning dance fitness party.
URL:https://biltmorehotel.com/event/zumba-60-with-jon-tues-thurs-9am/2026-05-28/
LOCATION:Fitness Studio
CATEGORIES:Fitness
END:VEVENT
BEGIN:VEVENT
DTSTART;TZID=America/New_York:20260528T101500
DTEND;TZID=America/New_York:20260528T231500
DTSTAMP:20260421T040649
CREATED:20250923T165028Z
LAST-MODIFIED:20260401T182139Z
UID:10072135-1779963300-1780010100@biltmorehotel.com
SUMMARY:Mat Pilates (55 minutes) with Sandy- Tues & Thurs 10:15am
DESCRIPTION:A low impact\, full-body workout focusing on core strength\, flexibility\, balance\, and coordination on a mat setting. \nFor more information please contact Philip\, Fitness Director at palatriste@biltmorehotel.com or visit or call the Fitness Front Desk (305) 913 – 3102. \nConsent for participation in a health and fitness training program\, a Physical Activity Readiness Questionnaire (PAR-Q)\, and an Activity Waiver Form is recommended. For chronic conditions a physician referral is recommended.  \n 
URL:https://biltmorehotel.com/event/mat-pilates-55min-with-sandy-tues-thurs-1015am/2026-05-28/
LOCATION:Fitness Studio
CATEGORIES:Fitness
END:VEVENT
BEGIN:VEVENT
DTSTART;TZID=America/New_York:20260528T170000
DTEND;TZID=America/New_York:20260528T173000
DTSTAMP:20260421T040649
CREATED:20241218T145545Z
LAST-MODIFIED:20260401T182753Z
UID:10072186-1779987600-1779989400@biltmorehotel.com
SUMMARY:Body Sculpt (30 minutes) with Nathalia - Tues & Thur 5pm
DESCRIPTION:High energy cardio strength training for the upper body\, lower body and core.
URL:https://biltmorehotel.com/event/body-sculpt-with-nathalia-tues-thur-5pm-2/2026-05-28/
LOCATION:Fitness Studio
CATEGORIES:Fitness
END:VEVENT
BEGIN:VEVENT
DTSTART;TZID=America/New_York:20260528T173000
DTEND;TZID=America/New_York:20260528T180000
DTSTAMP:20260421T040649
CREATED:20241218T144722Z
LAST-MODIFIED:20260401T185222Z
UID:10073817-1779989400-1779991200@biltmorehotel.com
SUMMARY:Ab Lab (30 minutes) with Nathalia - Tues & Thurs 5:30 pm
DESCRIPTION:Meant to exhaust every muscle of your core.
URL:https://biltmorehotel.com/event/ab-lab-with-nathalia-30min-tuesdays-530-pm/2026-05-28/
LOCATION:Fitness Studio
CATEGORIES:Fitness
END:VEVENT
BEGIN:VEVENT
DTSTART;TZID=America/New_York:20260529T090000
DTEND;TZID=America/New_York:20260529T100000
DTSTAMP:20260421T040649
CREATED:20231003T185502Z
LAST-MODIFIED:20260407T200301Z
UID:10073195-1780045200-1780048800@biltmorehotel.com
SUMMARY:Fitness (60 minutes) with Susie - Mon & Fri 9am
DESCRIPTION:Cardio-based workout promoting\, building\, and maintaining muscular strength and cardiovascular endurance.
URL:https://biltmorehotel.com/event/fitness-60-with-susie-mon-fri-9am/2026-05-29/
LOCATION:Fitness Studio
CATEGORIES:Fitness
END:VEVENT
BEGIN:VEVENT
DTSTART;TZID=America/New_York:20260529T100000
DTEND;TZID=America/New_York:20260529T225500
DTSTAMP:20260421T040649
CREATED:20231227T202327Z
LAST-MODIFIED:20260407T202302Z
UID:10071966-1780048800-1780095300@biltmorehotel.com
SUMMARY:Fitness (55 minutes) with Erica- Mon/Wed/Fri 10am
DESCRIPTION:Cardio-based workout promoting\, building\, and maintaining muscular strength and cardiovascular endurance.
URL:https://biltmorehotel.com/event/fitness-55min-with-erica-mon-wed-fri-10am/2026-05-29/
LOCATION:Fitness Studio
CATEGORIES:Fitness
END:VEVENT
BEGIN:VEVENT
DTSTART;TZID=America/New_York:20260530T093000
DTEND;TZID=America/New_York:20260530T221500
DTSTAMP:20260421T040649
CREATED:20241010T205600Z
LAST-MODIFIED:20260407T204527Z
UID:10072485-1780133400-1780179300@biltmorehotel.com
SUMMARY:Barre (45 minutes) with Ruth - Saturdays 9:30am
DESCRIPTION:Low impact ballet + Pilates + yoga for strength  flexibility\, and posture.
URL:https://biltmorehotel.com/event/barre-with-ruth-45min-saturdays-930am-2/2026-05-30/
LOCATION:Fitness Studio
CATEGORIES:Fitness
END:VEVENT
BEGIN:VEVENT
DTSTART;TZID=America/New_York:20260530T101500
DTEND;TZID=America/New_York:20260530T111000
DTSTAMP:20260421T040649
CREATED:20250925T204521Z
LAST-MODIFIED:20260407T210606Z
UID:10072519-1780136100-1780139400@biltmorehotel.com
SUMMARY:Fitness (55 minutes) with Ruth - Saturday 10:15am
DESCRIPTION:Cardio-based workout promoting\, building\, and maintaining muscular strength and cardiovascular endurance.
URL:https://biltmorehotel.com/event/fitness-60-with-ruth-saturday-1015am-2/2026-05-30/
LOCATION:Fitness Studio
CATEGORIES:Fitness
END:VEVENT
BEGIN:VEVENT
DTSTART;TZID=America/New_York:20260531T090000
DTEND;TZID=America/New_York:20260531T100000
DTSTAMP:20260421T040649
CREATED:20240402T210000Z
LAST-MODIFIED:20260408T155352Z
UID:10074558-1780218000-1780221600@biltmorehotel.com
SUMMARY:Barre (60 minutes) with Ruth - Sundays 9am
DESCRIPTION:Low impact Ballet + Pilates + yoga for strength\, flexibility\, and posture.
URL:https://biltmorehotel.com/event/barre-with-ruth-60min-sundays-9am/2026-05-31/
LOCATION:Fitness Studio
CATEGORIES:Fitness
END:VEVENT
BEGIN:VEVENT
DTSTART;TZID=America/New_York:20260531T100000
DTEND;TZID=America/New_York:20260531T110000
DTSTAMP:20260421T040649
CREATED:20240403T134910Z
LAST-MODIFIED:20260408T155815Z
UID:10072606-1780221600-1780225200@biltmorehotel.com
SUMMARY:Fitness (60 minutes) with Ruth - Sundays 10am
DESCRIPTION:Cardio-based workout promoting\, building\, and maintaining muscular strength and cardiovascular endurance.
URL:https://biltmorehotel.com/event/fitness-60-with-ruth-sundays-10am/2026-05-31/
LOCATION:Fitness Studio
CATEGORIES:Fitness
END:VEVENT
BEGIN:VEVENT
DTSTART;TZID=America/New_York:20260601T090000
DTEND;TZID=America/New_York:20260601T100000
DTSTAMP:20260421T040649
CREATED:20231003T185502Z
LAST-MODIFIED:20260407T200301Z
UID:10074216-1780304400-1780308000@biltmorehotel.com
SUMMARY:Fitness (60 minutes) with Susie - Mon & Fri 9am
DESCRIPTION:Cardio-based workout promoting\, building\, and maintaining muscular strength and cardiovascular endurance.
URL:https://biltmorehotel.com/event/fitness-60-with-susie-mon-fri-9am/2026-06-01/
LOCATION:Fitness Studio
CATEGORIES:Fitness
END:VEVENT
BEGIN:VEVENT
DTSTART;TZID=America/New_York:20260601T100000
DTEND;TZID=America/New_York:20260601T225500
DTSTAMP:20260421T040649
CREATED:20231227T202327Z
LAST-MODIFIED:20260407T202302Z
UID:10074336-1780308000-1780354500@biltmorehotel.com
SUMMARY:Fitness (55 minutes) with Erica- Mon/Wed/Fri 10am
DESCRIPTION:Cardio-based workout promoting\, building\, and maintaining muscular strength and cardiovascular endurance.
URL:https://biltmorehotel.com/event/fitness-55min-with-erica-mon-wed-fri-10am/2026-06-01/
LOCATION:Fitness Studio
CATEGORIES:Fitness
END:VEVENT
BEGIN:VEVENT
DTSTART;TZID=America/New_York:20260601T111500
DTEND;TZID=America/New_York:20260601T121500
DTSTAMP:20260421T040649
CREATED:20250923T160802Z
LAST-MODIFIED:20260408T161856Z
UID:10074693-1780312500-1780316100@biltmorehotel.com
SUMMARY:Mat Pilates (60 minutes) with Cat - Mon 11:15am
DESCRIPTION:A low impact\, full-body workout focusing on core strength\, flexibility\, balance\, and coordination on a matt setting. \nFor more information please contact Philip\, Fitness Director at palatriste@biltmorehotel.com or visit or call the Fitness Front Desk (305) 913 – 3102. \nConsent for participation in a health and fitness training program\, a Physical Activity Readiness Questionnaire (PAR-Q)\, and an Activity Waiver Form is recommended. For chronic conditions a physician referral is recommended.  \n 
URL:https://biltmorehotel.com/event/mat-pilates-55min-with-cat-mon-1115am/2026-06-01/
LOCATION:Fitness Studio
CATEGORIES:Fitness
END:VEVENT
BEGIN:VEVENT
DTSTART;TZID=America/New_York:20260601T163000
DTEND;TZID=America/New_York:20260601T172000
DTSTAMP:20260421T040649
CREATED:20231229T142750Z
LAST-MODIFIED:20260401T191643Z
UID:10073979-1780331400-1780334400@biltmorehotel.com
SUMMARY:TRX (30 minutes\, $$) with Philip - Mon & Wed 4:30pm
DESCRIPTION:Total-body resistance exercises using straps\, gravity\, and your own bodyweight to build strength and toning \nFor more information please contact Philip\, Fitness Director at palatriste@biltmorehotel.com or visit or call the Fitness Front Desk (305) 913 – 3102. \nPayments are payable to The Biltmore Hotel. 48-hour cancellation period does apply. \nConsent for participation in a health and fitness training program\, a Physical Activity Readiness Questionnaire (PAR-Q)\, and an Activity Waiver Form is recommended. For chronic conditions a physician referral is recommended.  \n 
URL:https://biltmorehotel.com/event/trx-50min-with-philip-mon-wed-430pm/2026-06-01/
LOCATION:Fitness Studio
CATEGORIES:Fitness
END:VEVENT
END:VCALENDAR